Workbook

Sheet Inputs
B1: NOTE: This Excel sheet serves as a complement to "Princess Auto (A): Changing the Supply Chain Management Landscape with Flowcasting," providing numerical examples of DRP/flowcasting logic, with a comparison with reorder point (ROP).
B2: This sheet contains the master data used in the example. The cells highlighted in yellow can be modified if needed. The changes will be reflected in other sheets in the file.
B3: 1) In each of the four sheets with the name "DRP_XXX", it shows how the orders under DRP/flowcasting logic can be calculated (see "Planned order receipts/releases")
B4: The independent demands at the three locations are linked to the DC which handles the dependent demands from those locations.
B5: 2) In the sheet "FC_MasterSchedule", the order (shipment) plans are calculated based on the time-phased planning logic of DRP/Flowcasting
B6: 3) In the sheet "Flowcasting_vs_ROP", we provide the results based on the planned orders using DRP/flowcasting logic vs ROP based on a single scenario of demand realization.
B7: 4) In the sheet "Scenario", we provide the simulation results based on 100 scenarios when Flowcasting planned orders and ROP are used.
B9: Master Data
C10: Current Inventory | D10: Order Qty | E10: Lead time | F10: Avg. Demand | G10: Safety Stock
B11: Chicago | C11: 450 | D11: 350 | E11: 2 | F11: =SUM(C22:J22)/MAX($C$21:$J$21) -> 110 | G11: =CEILING(NORMINV($C$17,0,1)*$C$16*F11*SQRT(E11),1) -> 64
B12: New York | C12: 650 | D12: 400 | E12: 2 | F12: =SUM(C23:J23)/MAX($C$21:$J$21) -> 110 | G12: =CEILING(NORMINV($C$17,0,1)*$C$16*F12*SQRT(E12),1) -> 64
B13: Montreal | C13: 250 | D13: 200 | E13: 2 | F13: =SUM(C24:J24)/MAX($C$21:$J$21) -> 55 | G13: =CEILING(NORMINV($C$17,0,1)*$C$16*F13*SQRT(E13),1) -> 32
B14: DC | C14: 1600 | D14: 1000 | E14: 3 | F14: =SUM(F11:F13)+SUM(C25:J25)/J21 -> 309.375 | G14: =CEILING(NORMINV($C$17,0,1)*$C$16*F14*SQRT(E14),1) -> 221
B16: Average forecast errors (%) | C16: 0.25 | D16: NOTE: this is the level of forecasting errors used in safety stock and simulation
B17: Service level (%) | C17: 0.95 | D17: NOTE: this is the level of forecasting errors used in safety stock calculation.
B19: Forecast and planned receipts | L19: Reorder Point
C20: Period | M20: Reorder Point | N20: Order Qty
B21: Forecast | C21: 1 | D21: 2 | E21: 3 | F21: 4 | G21: 5 | H21: 6 | I21: 7 | J21: 8 | L21: Chicago | M21: =G11+F11*E11 -> 284 | N21: =D11 -> 350
B22: =B11 -> Chicago | C22: 130 | D22: 110 | E22: 90 | F22: 110 | G22: 130 | H22: 110 | I22: 90 | J22: 110 | L22: New York | M22: =G12+F12*E12 -> 284 | N22: =D12 -> 400
B23: =B12 -> New York | C23: 150 | D23: 160 | E23: 150 | F23: 90 | G23: 80 | H23: 120 | I23: 80 | J23: 50 | L23: Montreal | M23: =G13+F13*E13 -> 142 | N23: =D13 -> 200
B24: =B13 -> Montreal | C24: 20 | D24: 20 | E24: 20 | F24: 20 | G24: 90 | H24: 90 | I24: 90 | J24: 90 | L24: DC | M24: =G14+F14*E14 -> 1149.125 | N24: =D14 -> 1000
B25: =B14 -> DC | D25: 200 | E25: 75
C27: Period
B28: Planned Receipts | C28: 1 | D28: 2 | E28: 3 | F28: 4 | G28: 5 | H28: 6 | I28: 7 | J28: 8
B29: =B11 -> Chicago | C29: 150 | D29: 50
B30: =B12 -> New York
B31: =B13 -> Montreal
B32: =B14 -> DC

Sheet DRP_Chicago
B2: Location | C2: Chicago
B3: Supplied from | C3: DC
B5: Order lot size | C5: =Inputs!D11 -> 350 | D5: units
B6: Lead-time | C6: =Inputs!E11 -> 2 | D6: periods
B7: On-Hand | C7: =Inputs!C11 -> 450 | D7: units
B8: Safety Stock | C8: =Inputs!G11 -> 64 | D8: units
B10: Period | D10: 1 | E10: 2 | F10: 3 | G10: 4 | H10: 5 | I10: 6 | J10: 7 | K10: 8
B11: Gross requirements | D11: =Inputs!C22 -> 130 | E11: =Inputs!D22 -> 110 | F11: =Inputs!E22 -> 90 | G11: =Inputs!F22 -> 110 | H11: =Inputs!G22 -> 130 | I11: =Inputs!H22 -> 110 | J11: =Inputs!I22 -> 90 | K11: =Inputs!J22 -> 110
B12: Scheduled receipts | D12: =Inputs!C29 -> 150 | E12: =Inputs!D29 -> 50 | F12: =Inputs!E29 -> 0 | G12: =Inputs!F29 -> 0 | H12: =Inputs!G29 -> 0 | I12: =Inputs!H29 -> 0 | J12: =Inputs!I29 -> 0 | K12: =Inputs!J29 -> 0
B13: Proj. available | C13: =C7 -> 450 | D13: =C13+D12+D15-D11 -> 470 | E13: =D13+E12+E15-E11 -> 410 | F13: =E13+F12+F15-F11 -> 320 | G13: =F13+G12+G15-G11 -> 210 | H13: =G13+H12+H15-H11 -> 80 | I13: =H13+I12+I15-I11 -> 320 | J13: =I13+J12+J15-J11 -> 230 | K13: =J13+K12+K15-K11 -> 120
B14: Net requirements | D14: =MAX(D11+$C8 - (C13+D12),0) -> 0 | E14: =MAX(E11+$C8 - (D13+E12),0) -> 0 | F14: =MAX(F11+$C8 - (E13+F12),0) -> 0 | G14: =MAX(G11+$C8 - (F13+G12),0) -> 0 | H14: =MAX(H11+$C8 - (G13+H12),0) -> 0 | I14: =MAX(I11+$C8 - (H13+I12),0) -> 94 | J14: =MAX(J11+$C8 - (I13+J12),0) -> 0 | K14: =MAX(K11+$C8 - (J13+K12),0) -> 0
B15: Planned order receipts | D15: =MAX(ROUNDUP(D14/$C5,0)*$C5,0) -> 0 | E15: =MAX(ROUNDUP(E14/$C5,0)*$C5,0) -> 0 | F15: =MAX(ROUNDUP(F14/$C5,0)*$C5,0) -> 0 | G15: =MAX(ROUNDUP(G14/$C5,0)*$C5,0) -> 0 | H15: =MAX(ROUNDUP(H14/$C5,0)*$C5,0) -> 0 | I15: =MAX(ROUNDUP(I14/$C5,0)*$C5,0) -> 350 | J15: =MAX(ROUNDUP(J14/$C5,0)*$C5,0) -> 0 | K15: =MAX(ROUNDUP(K14/$C5,0)*$C5,0) -> 0
B16: Planned order releases | D16: =OFFSET(D15,0,$C6) -> 0 | E16: =OFFSET(E15,0,$C6) -> 0 | F16: =OFFSET(F15,0,$C6) -> 0 | G16: =OFFSET(G15,0,$C6) -> 350 | H16: =OFFSET(H15,0,$C6) -> 0 | I16: =OFFSET(I15,0,$C6) -> 0 | J16: =OFFSET(J15,0,$C6) -> 0 | K16: =OFFSET(K15,0,$C6) -> 0
B17: Backlog quantity (if any) | C17: =IF(SUM(D15:OFFSET(D15,0,$C6-1))<=0,0,SUM(D15:OFFSET(D15,0,$C6-1))) -> 0

Sheet DRP_NewYork
B2: Location | C2: New York
B3: Supplied from | C3: DC
B5: Order lot size | C5: =Inputs!D12 -> 400 | D5: units
B6: Lead-time | C6: =Inputs!E12 -> 2 | D6: periods
B7: On-Hand | C7: =Inputs!C12 -> 650 | D7: units
B8: Safety Stock | C8: =Inputs!G12 -> 64 | D8: units
B10: Period | D10: 1 | E10: 2 | F10: 3 | G10: 4 | H10: 5 | I10: 6 | J10: 7 | K10: 8
B11: Gross requirements | D11: =Inputs!C23 -> 150 | E11: =Inputs!D23 -> 160 | F11: =Inputs!E23 -> 150 | G11: =Inputs!F23 -> 90 | H11: =Inputs!G23 -> 80 | I11: =Inputs!H23 -> 120 | J11: =Inputs!I23 -> 80 | K11: =Inputs!J23 -> 50
B12: Scheduled receipts | D12: =Inputs!C30 -> 0 | E12: =Inputs!D30 -> 0 | F12: =Inputs!E30 -> 0 | G12: =Inputs!F30 -> 0 | H12: =Inputs!G30 -> 0 | I12: =Inputs!H30 -> 0 | J12: =Inputs!I30 -> 0 | K12: =Inputs!J30 -> 0
B13: Proj. available | C13: =C7 -> 650 | D13: =C13+D12+D15-D11 -> 500 | E13: =D13+E12+E15-E11 -> 340 | F13: =E13+F12+F15-F11 -> 190 | G13: =F13+G12+G15-G11 -> 100 | H13: =G13+H12+H15-H11 -> 420 | I13: =H13+I12+I15-I11 -> 300 | J13: =I13+J12+J15-J11 -> 220 | K13: =J13+K12+K15-K11 -> 170
B14: Net requirements | D14: =MAX(D11+$C8 - (C13+D12),0) -> 0 | E14: =MAX(E11+$C8 - (D13+E12),0) -> 0 | F14: =MAX(F11+$C8 - (E13+F12),0) -> 0 | G14: =MAX(G11+$C8 - (F13+G12),0) -> 0 | H14: =MAX(H11+$C8 - (G13+H12),0) -> 44 | I14: =MAX(I11+$C8 - (H13+I12),0) -> 0 | J14: =MAX(J11+$C8 - (I13+J12),0) -> 0 | K14: =MAX(K11+$C8 - (J13+K12),0) -> 0
B15: Planned order receipts | D15: =MAX(ROUNDUP(D14/$C5,0)*$C5,0) -> 0 | E15: =MAX(ROUNDUP(E14/$C5,0)*$C5,0) -> 0 | F15: =MAX(ROUNDUP(F14/$C5,0)*$C5,0) -> 0 | G15: =MAX(ROUNDUP(G14/$C5,0)*$C5,0) -> 0 | H15: =MAX(ROUNDUP(H14/$C5,0)*$C5,0) -> 400 | I15: =MAX(ROUNDUP(I14/$C5,0)*$C5,0) -> 0 | J15: =MAX(ROUNDUP(J14/$C5,0)*$C5,0) -> 0 | K15: =MAX(ROUNDUP(K14/$C5,0)*$C5,0) -> 0
B16: Planned order releases | C16: =SUM(D15:K15)-SUM(D16:K16) -> 0 | D16: =OFFSET(D15,0,$C6) -> 0 | E16: =OFFSET(E15,0,$C6) -> 0 | F16: =OFFSET(F15,0,$C6) -> 400 | G16: =OFFSET(G15,0,$C6) -> 0 | H16: =OFFSET(H15,0,$C6) -> 0 | I16: =OFFSET(I15,0,$C6) -> 0 | J16: =OFFSET(J15,0,$C6) -> 0 | K16: =OFFSET(K15,0,$C6) -> 0
B17: Backlog quantity (if any) | C17: =IF(SUM(D15:OFFSET(D15,0,$C6-1))<=0,0,SUM(D15:OFFSET(D15,0,$C6-1))) -> 0

Sheet DRP_Montreal
B2: Location | C2: Montreal
B3: Supplied from | C3: DC
B5: Order lot size | C5: =Inputs!D13 -> 200 | D5: units
B6: Lead-time | C6: =Inputs!E13 -> 2 | D6: periods
B7: On-Hand | C7: =Inputs!C13 -> 250 | D7: units
B8: Safety Stock | C8: =Inputs!G13 -> 32 | D8: units
B10: Period | D10: 1 | E10: 2 | F10: 3 | G10: 4 | H10: 5 | I10: 6 | J10: 7 | K10: 8
B11: Gross requirements | D11: =Inputs!C24 -> 20 | E11: =Inputs!D24 -> 20 | F11: =Inputs!E24 -> 20 | G11: =Inputs!F24 -> 20 | H11: =Inputs!G24 -> 90 | I11: =Inputs!H24 -> 90 | J11: =Inputs!I24 -> 90 | K11: =Inputs!J24 -> 90
B12: Scheduled receipts | D12: =Inputs!C31 -> 0 | E12: =Inputs!D31 -> 0 | F12: =Inputs!E31 -> 0 | G12: =Inputs!F31 -> 0 | H12: =Inputs!G31 -> 0 | I12: =Inputs!H31 -> 0 | J12: =Inputs!I31 -> 0 | K12: =Inputs!J31 -> 0
B13: Proj. available | C13: =C7 -> 250 | D13: =C13+D12+D15-D11 -> 230 | E13: =D13+E12+E15-E11 -> 210 | F13: =E13+F12+F15-F11 -> 190 | G13: =F13+G12+G15-G11 -> 170 | H13: =G13+H12+H15-H11 -> 80 | I13: =H13+I12+I15-I11 -> 190 | J13: =I13+J12+J15-J11 -> 100 | K13: =J13+K12+K15-K11 -> 210
B14: Net requirements | D14: =MAX(D11+$C8 - (C13+D12),0) -> 0 | E14: =MAX(E11+$C8 - (D13+E12),0) -> 0 | F14: =MAX(F11+$C8 - (E13+F12),0) -> 0 | G14: =MAX(G11+$C8 - (F13+G12),0) -> 0 | H14: =MAX(H11+$C8 - (G13+H12),0) -> 0 | I14: =MAX(I11+$C8 - (H13+I12),0) -> 42 | J14: =MAX(J11+$C8 - (I13+J12),0) -> 0 | K14: =MAX(K11+$C8 - (J13+K12),0) -> 22
B15: Planned order receipts | D15: =MAX(ROUNDUP(D14/$C5,0)*$C5,0) -> 0 | E15: =MAX(ROUNDUP(E14/$C5,0)*$C5,0) -> 0 | F15: =MAX(ROUNDUP(F14/$C5,0)*$C5,0) -> 0 | G15: =MAX(ROUNDUP(G14/$C5,0)*$C5,0) -> 0 | H15: =MAX(ROUNDUP(H14/$C5,0)*$C5,0) -> 0 | I15: =MAX(ROUNDUP(I14/$C5,0)*$C5,0) -> 200 | J15: =MAX(ROUNDUP(J14/$C5,0)*$C5,0) -> 0 | K15: =MAX(ROUNDUP(K14/$C5,0)*$C5,0) -> 200
B16: Planned order releases | C16: =SUM(D15:K15)-SUM(D16:K16) -> 0 | D16: =OFFSET(D15,0,$C6) -> 0 | E16: =OFFSET(E15,0,$C6) -> 0 | F16: =OFFSET(F15,0,$C6) -> 0 | G16: =OFFSET(G15,0,$C6) -> 200 | H16: =OFFSET(H15,0,$C6) -> 0 | I16: =OFFSET(I15,0,$C6) -> 200 | J16: =OFFSET(J15,0,$C6) -> 0 | K16: =OFFSET(K15,0,$C6) -> 0
B17: Backlog quantity (if any) | C17: =IF(SUM(D15:OFFSET(D15,0,$C6-1))<=0,0,SUM(D15:OFFSET(D15,0,$C6-1))) -> 0

Sheet DRP_DC
B2: Location | C2: DC
B3: Supplied from | C3: None
B5: Order lot size | C5: =Inputs!D14 -> 1000 | D5: units
B6: Lead-time | C6: =Inputs!E14 -> 3 | D6: periods
B7: On-Hand | C7: =Inputs!C14 -> 1600 | D7: units
B8: Safety Stock | C8: =Inputs!G14 -> 221 | D8: units
B10: Period | D10: 1 | E10: 2 | F10: 3 | G10: 4 | H10: 5 | I10: 6 | J10: 7 | K10: 8
B11: Gross requirements | D11: =DRP_Chicago!D16+DRP_NewYork!D16+DRP_Montreal!D16+Inputs!C25 -> 0 | E11: =DRP_Chicago!E16+DRP_NewYork!E16+DRP_Montreal!E16+Inputs!D25 -> 200 | F11: =DRP_Chicago!F16+DRP_NewYork!F16+DRP_Montreal!F16+Inputs!E25 -> 475 | G11: =DRP_Chicago!G16+DRP_NewYork!G16+DRP_Montreal!G16+Inputs!F25 -> 550 | H11: =DRP_Chicago!H16+DRP_NewYork!H16+DRP_Montreal!H16+Inputs!G25 -> 0 | I11: =DRP_Chicago!I16+DRP_NewYork!I16+DRP_Montreal!I16+Inputs!H25 -> 200 | J11: =DRP_Chicago!J16+DRP_NewYork!J16+DRP_Montreal!J16+Inputs!I25 -> 0 | K11: =DRP_Chicago!K16+DRP_NewYork!K16+DRP_Montreal!K16+Inputs!J25 -> 0
B12: Scheduled receipts | D12: =Inputs!C32 -> 0 | E12: =Inputs!D32 -> 0 | F12: =Inputs!E32 -> 0 | G12: =Inputs!F32 -> 0 | H12: =Inputs!G32 -> 0 | I12: =Inputs!H32 -> 0 | J12: =Inputs!I32 -> 0 | K12: =Inputs!J32 -> 0
B13: Proj. available | C13: =C7 -> 1600 | D13: =C13+D12+D15-D11 -> 1600 | E13: =D13+E12+E15-E11 -> 1400 | F13: =E13+F12+F15-F11 -> 925 | G13: =F13+G12+G15-G11 -> 375 | H13: =G13+H12+H15-H11 -> 375 | I13: =H13+I12+I15-I11 -> 1175 | J13: =I13+J12+J15-J11 -> 1175 | K13: =J13+K12+K15-K11 -> 1175
B14: Net requirements | D14: =MAX(D11+$C8 - (C13+D12),0) -> 0 | E14: =MAX(E11+$C8 - (D13+E12),0) -> 0 | F14: =MAX(F11+$C8 - (E13+F12),0) -> 0 | G14: =MAX(G11+$C8 - (F13+G12),0) -> 0 | H14: =MAX(H11+$C8 - (G13+H12),0) -> 0 | I14: =MAX(I11+$C8 - (H13+I12),0) -> 46 | J14: =MAX(J11+$C8 - (I13+J12),0) -> 0 | K14: =MAX(K11+$C8 - (J13+K12),0) -> 0
B15: Planned order receipts | D15: =MAX(ROUNDUP(D14/$C5,0)*$C5,0) -> 0 | E15: =MAX(ROUNDUP(E14/$C5,0)*$C5,0) -> 0 | F15: =MAX(ROUNDUP(F14/$C5,0)*$C5,0) -> 0 | G15: =MAX(ROUNDUP(G14/$C5,0)*$C5,0) -> 0 | H15: =MAX(ROUNDUP(H14/$C5,0)*$C5,0) -> 0 | I15: =MAX(ROUNDUP(I14/$C5,0)*$C5,0) -> 1000 | J15: =MAX(ROUNDUP(J14/$C5,0)*$C5,0) -> 0 | K15: =MAX(ROUNDUP(K14/$C5,0)*$C5,0) -> 0
B16: Planned order releases | C16: =SUM(D15:K15)-SUM(D16:K16) -> 0 | D16: =OFFSET(D15,0,$C6) -> 0 | E16: =OFFSET(E15,0,$C6) -> 0 | F16: =OFFSET(F15,0,$C6) -> 1000 | G16: =OFFSET(G15,0,$C6) -> 0 | H16: =OFFSET(H15,0,$C6) -> 0 | I16: =OFFSET(I15,0,$C6) -> 0 | J16: =OFFSET(J15,0,$C6) -> 0 | K16: =OFFSET(K15,0,$C6) -> 0
B17: Backlog quantity (if any) | C17: =IF(SUM(D15:OFFSET(D15,0,$C6-1))<=0,0,SUM(D15:OFFSET(D15,0,$C6-1))) -> 0

Sheet FC_MasterSchedule
B3: Summary of Planned Shipments
D4: Period
B5: Location | C5: Backlog (Past Due) | D5: 1 | E5: 2 | F5: 3 | G5: 4 | H5: 5 | I5: 6 | J5: 7 | K5: 8
B6: =DRP_Chicago!C2 -> Chicago | C6: =DRP_Chicago!C17 -> 0 | D6: =DRP_Chicago!D16 -> 0 | E6: =DRP_Chicago!E16 -> 0 | F6: =DRP_Chicago!F16 -> 0 | G6: =DRP_Chicago!G16 -> 350 | H6: =DRP_Chicago!H16 -> 0 | I6: =DRP_Chicago!I16 -> 0 | J6: =DRP_Chicago!J16 -> 0 | K6: =DRP_Chicago!K16 -> 0
B7: =DRP_NewYork!C2 -> New York | C7: =DRP_NewYork!C17 -> 0 | D7: =DRP_NewYork!D16 -> 0 | E7: =DRP_NewYork!E16 -> 0 | F7: =DRP_NewYork!F16 -> 400 | G7: =DRP_NewYork!G16 -> 0 | H7: =DRP_NewYork!H16 -> 0 | I7: =DRP_NewYork!I16 -> 0 | J7: =DRP_NewYork!J16 -> 0 | K7: =DRP_NewYork!K16 -> 0
B8: =DRP_Montreal!C2 -> Montreal | C8: =DRP_Montreal!C17 -> 0 | D8: =DRP_Montreal!D16 -> 0 | E8: =DRP_Montreal!E16 -> 0 | F8: =DRP_Montreal!F16 -> 0 | G8: =DRP_Montreal!G16 -> 200 | H8: =DRP_Montreal!H16 -> 0 | I8: =DRP_Montreal!I16 -> 200 | J8: =DRP_Montreal!J16 -> 0 | K8: =DRP_Montreal!K16 -> 0
B9: =DRP_DC!C2 -> DC | C9: =DRP_DC!C17 -> 0 | D9: =DRP_DC!D16 -> 0 | E9: =DRP_DC!E16 -> 0 | F9: =DRP_DC!F16 -> 1000 | G9: =DRP_DC!G16 -> 0 | H9: =DRP_DC!H16 -> 0 | I9: =DRP_DC!I16 -> 0 | J9: =DRP_DC!J16 -> 0 | K9: =DRP_DC!K16 -> 0
B11: Summary of Projected Inventory
D12: Period
B13: Location | C13: 0 | D13: 1 | E13: 2 | F13: 3 | G13: 4 | H13: 5 | I13: 6 | J13: 7 | K13: 8
B14: =B6 -> Chicago | C14: =DRP_Chicago!C13 -> 450 | D14: =DRP_Chicago!D13 -> 470 | E14: =DRP_Chicago!E13 -> 410 | F14: =DRP_Chicago!F13 -> 320 | G14: =DRP_Chicago!G13 -> 210 | H14: =DRP_Chicago!H13 -> 80 | I14: =DRP_Chicago!I13 -> 320 | J14: =DRP_Chicago!J13 -> 230 | K14: =DRP_Chicago!K13 -> 120
B15: =B7 -> New York | C15: =DRP_NewYork!C13 -> 650 | D15: =DRP_NewYork!D13 -> 500 | E15: =DRP_NewYork!E13 -> 340 | F15: =DRP_NewYork!F13 -> 190 | G15: =DRP_NewYork!G13 -> 100 | H15: =DRP_NewYork!H13 -> 420 | I15: =DRP_NewYork!I13 -> 300 | J15: =DRP_NewYork!J13 -> 220 | K15: =DRP_NewYork!K13 -> 170
B16: =B8 -> Montreal | C16: =DRP_Montreal!C13 -> 250 | D16: =DRP_Montreal!D13 -> 230 | E16: =DRP_Montreal!E13 -> 210 | F16: =DRP_Montreal!F13 -> 190 | G16: =DRP_Montreal!G13 -> 170 | H16: =DRP_Montreal!H13 -> 80 | I16: =DRP_Montreal!I13 -> 190 | J16: =DRP_Montreal!J13 -> 100 | K16: =DRP_Montreal!K13 -> 210
B17: =B9 -> DC | C17: =DRP_DC!C13 -> 1600 | D17: =DRP_DC!D13 -> 1600 | E17: =DRP_DC!E13 -> 1400 | F17: =DRP_DC!F13 -> 925 | G17: =DRP_DC!G13 -> 375 | H17: =DRP_DC!H13 -> 375 | I17: =DRP_DC!I13 -> 1175 | J17: =DRP_DC!J13 -> 1175 | K17: =DRP_DC!K13 -> 1175

Sheet Flowcasting_vs_ROP
B1: NOTE: This sheet is used to generate the results based on flowcasting vs ROP under a demand scenario randomly drawn based on the predefined forecasting error level.
B2: %Forecast Error | C2: =Inputs!C16 -> 0.25
N3: Reorder Point parameters
A4: Lead time | B4: Independent Demand | D4: Period
B5: Location | C5: Average | D5: 1 | E5: 2 | F5: 3 | G5: 4 | H5: 5 | I5: 6 | J5: 7 | K5: 8 | N5: Location | O5: ROP | P5: Qty
A6: =Inputs!E11 -> 2 | B6: =Inputs!B11 -> Chicago | C6: =AVERAGE(D6:K6) -> 105.875 | D6: =ROUND(Inputs!C22*(1+$C$2*(RAND()-0.5)),0) -> 118 | E6: =ROUND(Inputs!D22*(1+$C$2*(RAND()-0.5)),0) -> 116 | F6: =ROUND(Inputs!E22*(1+$C$2*(RAND()-0.5)),0) -> 87 | G6: =ROUND(Inputs!F22*(1+$C$2*(RAND()-0.5)),0) -> 102 | H6: =ROUND(Inputs!G22*(1+$C$2*(RAND()-0.5)),0) -> 119 | I6: =ROUND(Inputs!H22*(1+$C$2*(RAND()-0.5)),0) -> 109 | J6: =ROUND(Inputs!I22*(1+$C$2*(RAND()-0.5)),0) -> 98 | K6: =ROUND(Inputs!J22*(1+$C$2*(RAND()-0.5)),0) -> 98 | N6: Chicago | O6: =Inputs!M21 -> 284 | P6: =Inputs!N21 -> 350
A7: =Inputs!E12 -> 2 | B7: =Inputs!B12 -> New York | C7: =AVERAGE(D7:K7) -> 109.75 | D7: =ROUND(Inputs!C23*(1+$C$2*(RAND()-0.5)),0) -> 161 | E7: =ROUND(Inputs!D23*(1+$C$2*(RAND()-0.5)),0) -> 145 | F7: =ROUND(Inputs!E23*(1+$C$2*(RAND()-0.5)),0) -> 147 | G7: =ROUND(Inputs!F23*(1+$C$2*(RAND()-0.5)),0) -> 100 | H7: =ROUND(Inputs!G23*(1+$C$2*(RAND()-0.5)),0) -> 74 | I7: =ROUND(Inputs!H23*(1+$C$2*(RAND()-0.5)),0) -> 110 | J7: =ROUND(Inputs!I23*(1+$C$2*(RAND()-0.5)),0) -> 90 | K7: =ROUND(Inputs!J23*(1+$C$2*(RAND()-0.5)),0) -> 51 | N7: New York | O7: =Inputs!M22 -> 284 | P7: =Inputs!N22 -> 400
A8: =Inputs!E13 -> 2 | B8: =Inputs!B13 -> Montreal | C8: =AVERAGE(D8:K8) -> 55 | D8: =ROUND(Inputs!C24*(1+$C$2*(RAND()-0.5)),0) -> 19 | E8: =ROUND(Inputs!D24*(1+$C$2*(RAND()-0.5)),0) -> 20 | F8: =ROUND(Inputs!E24*(1+$C$2*(RAND()-0.5)),0) -> 21 | G8: =ROUND(Inputs!F24*(1+$C$2*(RAND()-0.5)),0) -> 20 | H8: =ROUND(Inputs!G24*(1+$C$2*(RAND()-0.5)),0) -> 93 | I8: =ROUND(Inputs!H24*(1+$C$2*(RAND()-0.5)),0) -> 83 | J8: =ROUND(Inputs!I24*(1+$C$2*(RAND()-0.5)),0) -> 86 | K8: =ROUND(Inputs!J24*(1+$C$2*(RAND()-0.5)),0) -> 98 | N8: Montreal | O8: =Inputs!M23 -> 142 | P8: =Inputs!N23 -> 200
A9: =Inputs!E14 -> 3 | B9: =Inputs!B14 -> DC | C9: =AVERAGE(D9:K9) -> 34.125 | D9: =ROUND(Inputs!C25*(1+$C$2*(RAND()-0.5)),0) -> 0 | E9: =ROUND(Inputs!D25*(1+$C$2*(RAND()-0.5)),0) -> 195 | F9: =ROUND(Inputs!E25*(1+$C$2*(RAND()-0.5)),0) -> 78 | G9: =ROUND(Inputs!F25*(1+$C$2*(RAND()-0.5)),0) -> 0 | H9: =ROUND(Inputs!G25*(1+$C$2*(RAND()-0.5)),0) -> 0 | I9: =ROUND(Inputs!H25*(1+$C$2*(RAND()-0.5)),0) -> 0 | J9: =ROUND(Inputs!I25*(1+$C$2*(RAND()-0.5)),0) -> 0 | K9: =ROUND(Inputs!J25*(1+$C$2*(RAND()-0.5)),0) -> 0 | N9: DC | O9: =Inputs!M24 -> 1149.125 | P9: =Inputs!N24 -> 1000
B11: DRP | N11: ROP
B13: Dependent Demand | D13: Period | N13: Dependent Demand
C14: Average | D14: 1 | E14: 2 | F14: 3 | G14: 4 | H14: 5 | I14: 6 | J14: 7 | K14: 8 | O14: Average | P14: 1 | Q14: 2 | R14: 3 | S14: 4 | T14: 5 | U14: 6 | V14: 7 | W14: 8
B15: =Inputs!B14 -> DC | C15: =AVERAGE(D15:K15) -> 143.75 | D15: =SUM(D20:D22) -> 0 | E15: =SUM(E20:E22) -> 0 | F15: =SUM(F20:F22) -> 400 | G15: =SUM(G20:G22) -> 550 | H15: =SUM(H20:H22) -> 0 | I15: =SUM(I20:I22) -> 200 | J15: =SUM(J20:J22) -> 0 | K15: =SUM(K20:K22) -> 0 | N15: =B15 -> DC | O15: =AVERAGE(P15:W15) -> 237.5 | P15: =SUM(P20:P22) -> 0 | Q15: =SUM(Q20:Q22) -> 0 | R15: =SUM(R20:R22) -> 400 | S15: =SUM(S20:S22) -> 350 | T15: =SUM(T20:T22) -> 200 | U15: =SUM(U20:U22) -> 0 | V15: =SUM(V20:V22) -> 750 | W15: =SUM(W20:W22) -> 200
B17: Order Placed | N17: Order Placed
D18: Period | P18: Period
B19: Location | C19: Backlog (Past Due) | D19: 1 | E19: 2 | F19: 3 | G19: 4 | H19: 5 | I19: 6 | J19: 7 | K19: 8 | N19: Location | O19: Backlog (Past Due) | P19: 1 | Q19: 2 | R19: 3 | S19: 4 | T19: 5 | U19: 6 | V19: 7 | W19: 8
B20: Chicago | C20: =FC_MasterSchedule!C6 -> 0 | D20: =FC_MasterSchedule!D6 -> 0 | E20: =FC_MasterSchedule!E6 -> 0 | F20: =FC_MasterSchedule!F6 -> 0 | G20: =FC_MasterSchedule!G6 -> 350 | H20: =FC_MasterSchedule!H6 -> 0 | I20: =FC_MasterSchedule!I6 -> 0 | J20: =FC_MasterSchedule!J6 -> 0 | K20: =FC_MasterSchedule!K6 -> 0 | N20: Chicago | O20: =IF(AND(O43<$O6,SUM(N20:OFFSET(N20,0,-1*($A6-1)))=0),$P6,0) -> 0 | P20: =IF(AND(P43+Inputs!C29<$O6,SUM(O20:OFFSET(O20,0,-1*($A6-1)))=0),$P6,0) -> 0 | Q20: =IF(AND(Q43+Inputs!D29<$O6,SUM(P20:OFFSET(P20,0,-1*($A6-1)))=0),$P6,0) -> 0 | R20: =IF(AND(R43+Inputs!E29<$O6,SUM(Q20:OFFSET(Q20,0,-1*($A6-1)))=0),$P6,0) -> 0 | S20: =IF(AND(S43+Inputs!F29<$O6,SUM(R20:OFFSET(R20,0,-1*($A6-1)))=0),$P6,0) -> 350 | T20: =IF(AND(T43+Inputs!G29<$O6,SUM(S20:OFFSET(S20,0,-1*($A6-1)))=0),$P6,0) -> 0 | U20: =IF(AND(U43+Inputs!H29<$O6,SUM(T20:OFFSET(T20,0,-1*($A6-1)))=0),$P6,0) -> 0 | V20: =IF(AND(V43+Inputs!I29<$O6,SUM(U20:OFFSET(U20,0,-1*($A6-1)))=0),$P6,0) -> 350 | W20: =IF(AND(W43+Inputs!J29<$O6,SUM(V20:OFFSET(V20,0,-1*($A6-1)))=0),$P6,0) -> 0
B21: New York | C21: =FC_MasterSchedule!C7 -> 0 | D21: =FC_MasterSchedule!D7 -> 0 | E21: =FC_MasterSchedule!E7 -> 0 | F21: =FC_MasterSchedule!F7 -> 400 | G21: =FC_MasterSchedule!G7 -> 0 | H21: =FC_MasterSchedule!H7 -> 0 | I21: =FC_MasterSchedule!I7 -> 0 | J21: =FC_MasterSchedule!J7 -> 0 | K21: =FC_MasterSchedule!K7 -> 0 | N21: New York | O21: =IF(AND(O44<$O7,SUM(N21:OFFSET(N21,0,-1*($A7-1)))=0),$P7,0) -> 0 | P21: =IF(AND(P44+Inputs!C30<$O7,SUM(O21:OFFSET(O21,0,-1*($A7-1)))=0),$P7,0) -> 0 | Q21: =IF(AND(Q44+Inputs!D30<$O7,SUM(P21:OFFSET(P21,0,-1*($A7-1)))=0),$P7,0) -> 0 | R21: =IF(AND(R44+Inputs!E30<$O7,SUM(Q21:OFFSET(Q21,0,-1*($A7-1)))=0),$P7,0) -> 400 | S21: =IF(AND(S44+Inputs!F30<$O7,SUM(R21:OFFSET(R21,0,-1*($A7-1)))=0),$P7,0) -> 0 | T21: =IF(AND(T44+Inputs!G30<$O7,SUM(S21:OFFSET(S21,0,-1*($A7-1)))=0),$P7,0) -> 0 | U21: =IF(AND(U44+Inputs!H30<$O7,SUM(T21:OFFSET(T21,0,-1*($A7-1)))=0),$P7,0) -> 0 | V21: =IF(AND(V44+Inputs!I30<$O7,SUM(U21:OFFSET(U21,0,-1*($A7-1)))=0),$P7,0) -> 400 | W21: =IF(AND(W44+Inputs!J30<$O7,SUM(V21:OFFSET(V21,0,-1*($A7-1)))=0),$P7,0) -> 0
B22: Montreal | C22: =FC_MasterSchedule!C8 -> 0 | D22: =FC_MasterSchedule!D8 -> 0 | E22: =FC_MasterSchedule!E8 -> 0 | F22: =FC_MasterSchedule!F8 -> 0 | G22: =FC_MasterSchedule!G8 -> 200 | H22: =FC_MasterSchedule!H8 -> 0 | I22: =FC_MasterSchedule!I8 -> 200 | J22: =FC_MasterSchedule!J8 -> 0 | K22: =FC_MasterSchedule!K8 -> 0 | N22: Montreal | O22: =IF(AND(O45<$O8,SUM(N22:OFFSET(N22,0,-1*($A8-1)))=0),$P8,0) -> 0 | P22: =IF(AND(P45+Inputs!C31<$O8,SUM(O22:OFFSET(O22,0,-1*($A8-1)))=0),$P8,0) -> 0 | Q22: =IF(AND(Q45+Inputs!D31<$O8,SUM(P22:OFFSET(P22,0,-1*($A8-1)))=0),$P8,0) -> 0 | R22: =IF(AND(R45+Inputs!E31<$O8,SUM(Q22:OFFSET(Q22,0,-1*($A8-1)))=0),$P8,0) -> 0 | S22: =IF(AND(S45+Inputs!F31<$O8,SUM(R22:OFFSET(R22,0,-1*($A8-1)))=0),$P8,0) -> 0 | T22: =IF(AND(T45+Inputs!G31<$O8,SUM(S22:OFFSET(S22,0,-1*($A8-1)))=0),$P8,0) -> 200 | U22: =IF(AND(U45+Inputs!H31<$O8,SUM(T22:OFFSET(T22,0,-1*($A8-1)))=0),$P8,0) -> 0 | V22: =IF(AND(V45+Inputs!I31<$O8,SUM(U22:OFFSET(U22,0,-1*($A8-1)))=0),$P8,0) -> 0 | W22: =IF(AND(W45+Inputs!J31<$O8,SUM(V22:OFFSET(V22,0,-1*($A8-1)))=0),$P8,0) -> 200
B23: DC | C23: =FC_MasterSchedule!C9 -> 0 | D23: =FC_MasterSchedule!D9 -> 0 | E23: =FC_MasterSchedule!E9 -> 0 | F23: =FC_MasterSchedule!F9 -> 1000 | G23: =FC_MasterSchedule!G9 -> 0 | H23: =FC_MasterSchedule!H9 -> 0 | I23: =FC_MasterSchedule!I9 -> 0 | J23: =FC_MasterSchedule!J9 -> 0 | K23: =FC_MasterSchedule!K9 -> 0 | N23: DC | O23: =IF(AND(O46<$O9,SUM(N23:OFFSET(N23,0,-1*($A9-1)))=0),$P9,0) -> 0 | P23: =IF(AND(P46+Inputs!C32<$O9,SUM(O23:OFFSET(O23,0,-1*($A9-1)))=0),$P9,0) -> 0 | Q23: =IF(AND(Q46+Inputs!D32<$O9,SUM(P23:OFFSET(P23,0,-1*($A9-1)))=0),$P9,0) -> 0 | R23: =IF(AND(R46+Inputs!E32<$O9,SUM(Q23:OFFSET(Q23,0,-1*($A9-1)))=0),$P9,0) -> 1000 | S23: =IF(AND(S46+Inputs!F32<$O9,SUM(R23:OFFSET(R23,0,-1*($A9-1)))=0),$P9,0) -> 0 | T23: =IF(AND(T46+Inputs!G32<$O9,SUM(S23:OFFSET(S23,0,-1*($A9-1)))=0),$P9,0) -> 0 | U23: =IF(AND(U46+Inputs!H32<$O9,SUM(T23:OFFSET(T23,0,-1*($A9-1)))=0),$P9,0) -> 0 | V23: =IF(AND(V46+Inputs!I32<$O9,SUM(U23:OFFSET(U23,0,-1*($A9-1)))=0),$P9,0) -> 1000 | W23: =IF(AND(W46+Inputs!J32<$O9,SUM(V23:OFFSET(V23,0,-1*($A9-1)))=0),$P9,0) -> 0
B25: Total Inventory DRP (all locations and In-transit) | N25: Total Inventory ROP (all locations and In-transit)
D26: Period | P26: Period
B27: Location | C27: Current | D27: 1 | E27: 2 | F27: 3 | G27: 4 | H27: 5 | I27: 6 | J27: 7 | K27: 8 | N27: Location | O27: Current | P27: 1 | Q27: 2 | R27: 3 | S27: 4 | T27: 5 | U27: 6 | V27: 7 | W27: 8
B28: Chicago | C28: =MAX(C43,0)+MAX(C51,0) -> 650 | D28: =MAX(D43,0)+MAX(D51,0) -> 532 | E28: =MAX(E43,0)+MAX(E51,0) -> 416 | F28: =MAX(F43,0)+MAX(F51,0) -> 329 | G28: =MAX(G43,0)+MAX(G51,0) -> 577 | H28: =MAX(H43,0)+MAX(H51,0) -> 458 | I28: =MAX(I43,0)+MAX(I51,0) -> 349 | J28: =MAX(J43,0)+MAX(J51,0) -> 251 | K28: =MAX(K43,0)+MAX(K51,0) -> 153 | N28: Chicago | O28: =MAX(O43,0)+MAX(O51,0) -> 650 | P28: =MAX(P43,0)+MAX(P51,0) -> 532 | Q28: =MAX(Q43,0)+MAX(Q51,0) -> 416 | R28: =MAX(R43,0)+MAX(R51,0) -> 329 | S28: =MAX(S43,0)+MAX(S51,0) -> 577 | T28: =MAX(T43,0)+MAX(T51,0) -> 458 | U28: =MAX(U43,0)+MAX(U51,0) -> 349 | V28: =MAX(V43,0)+MAX(V51,0) -> 601 | W28: =MAX(W43,0)+MAX(W51,0) -> 503
B29: New York | C29: =MAX(C44,0)+MAX(C52,0) -> 650 | D29: =MAX(D44,0)+MAX(D52,0) -> 489 | E29: =MAX(E44,0)+MAX(E52,0) -> 344 | F29: =MAX(F44,0)+MAX(F52,0) -> 597 | G29: =MAX(G44,0)+MAX(G52,0) -> 497 | H29: =MAX(H44,0)+MAX(H52,0) -> 423 | I29: =MAX(I44,0)+MAX(I52,0) -> 313 | J29: =MAX(J44,0)+MAX(J52,0) -> 223 | K29: =MAX(K44,0)+MAX(K52,0) -> 172 | N29: New York | O29: =MAX(O44,0)+MAX(O52,0) -> 650 | P29: =MAX(P44,0)+MAX(P52,0) -> 489 | Q29: =MAX(Q44,0)+MAX(Q52,0) -> 344 | R29: =MAX(R44,0)+MAX(R52,0) -> 597 | S29: =MAX(S44,0)+MAX(S52,0) -> 497 | T29: =MAX(T44,0)+MAX(T52,0) -> 423 | U29: =MAX(U44,0)+MAX(U52,0) -> 313 | V29: =MAX(V44,0)+MAX(V52,0) -> 623 | W29: =MAX(W44,0)+MAX(W52,0) -> 572
B30: Montreal | C30: =MAX(C45,0)+MAX(C53,0) -> 250 | D30: =MAX(D45,0)+MAX(D53,0) -> 231 | E30: =MAX(E45,0)+MAX(E53,0) -> 211 | F30: =MAX(F45,0)+MAX(F53,0) -> 190 | G30: =MAX(G45,0)+MAX(G53,0) -> 370 | H30: =MAX(H45,0)+MAX(H53,0) -> 277 | I30: =MAX(I45,0)+MAX(I53,0) -> 394 | J30: =MAX(J45,0)+MAX(J53,0) -> 308 | K30: =MAX(K45,0)+MAX(K53,0) -> 210 | N30: Montreal | O30: =MAX(O45,0)+MAX(O53,0) -> 250 | P30: =MAX(P45,0)+MAX(P53,0) -> 231 | Q30: =MAX(Q45,0)+MAX(Q53,0) -> 211 | R30: =MAX(R45,0)+MAX(R53,0) -> 190 | S30: =MAX(S45,0)+MAX(S53,0) -> 170 | T30: =MAX(T45,0)+MAX(T53,0) -> 277 | U30: =MAX(U45,0)+MAX(U53,0) -> 200 | V30: =MAX(V45,0)+MAX(V53,0) -> 108 | W30: =MAX(W45,0)+MAX(W53,0) -> 210
B31: DC | C31: =MAX(C46,0)+MAX(C54,0) -> 1600 | D31: =MAX(D46,0)+MAX(D54,0) -> 1600 | E31: =MAX(E46,0)+MAX(E54,0) -> 1405 | F31: =MAX(F46,0)+MAX(F54,0) -> 1927 | G31: =MAX(G46,0)+MAX(G54,0) -> 1377 | H31: =MAX(H46,0)+MAX(H54,0) -> 1377 | I31: =MAX(I46,0)+MAX(I54,0) -> 1177 | J31: =MAX(J46,0)+MAX(J54,0) -> 1177 | K31: =MAX(K46,0)+MAX(K54,0) -> 1177 | N31: DC | O31: =MAX(O46,0)+MAX(O54,0) -> 1600 | P31: =MAX(P46,0)+MAX(P54,0) -> 1600 | Q31: =MAX(Q46,0)+MAX(Q54,0) -> 1405 | R31: =MAX(R46,0)+MAX(R54,0) -> 1927 | S31: =MAX(S46,0)+MAX(S54,0) -> 1577 | T31: =MAX(T46,0)+MAX(T54,0) -> 1377 | U31: =MAX(U46,0)+MAX(U54,0) -> 1377 | V31: =MAX(V46,0)+MAX(V54,0) -> 627 | W31: =MAX(W46,0)+MAX(W54,0) -> 427
B33: Details:
B34: - Inventory at DCs
B35: - Inventory in-transit
B36: - Order receipts
B40: Inventory DRP | N40: Inventory ROP
B41: BACK to top | D41: Period | N41: BACK to top | P41: Period
B42: Location | C42: Current | D42: 1 | E42: 2 | F42: 3 | G42: 4 | H42: 5 | I42: 6 | J42: 7 | K42: 8 | N42: Location | O42: Current | P42: 1 | Q42: 2 | R42: 3 | S42: 4 | T42: 5 | U42: 6 | V42: 7 | W42: 8
B43: Chicago | C43: =Inputs!C11 -> 450 | D43: =C43-D6+D59 -> 482 | E43: =D43-E6+E59 -> 416 | F43: =E43-F6+F59 -> 329 | G43: =F43-G6+G59 -> 227 | H43: =G43-H6+H59 -> 108 | I43: =H43-I6+I59 -> 349 | J43: =I43-J6+J59 -> 251 | K43: =J43-K6+K59 -> 153 | N43: Chicago | O43: =C43 -> 450 | P43: =O43-D6+P59 -> 482 | Q43: =P43-E6+Q59 -> 416 | R43: =Q43-F6+R59 -> 329 | S43: =R43-G6+S59 -> 227 | T43: =S43-H6+T59 -> 108 | U43: =T43-I6+U59 -> 349 | V43: =U43-J6+V59 -> 251 | W43: =V43-K6+W59 -> 153
B44: New York | C44: =Inputs!C12 -> 650 | D44: =C44-D7+D60 -> 489 | E44: =D44-E7+E60 -> 344 | F44: =E44-F7+F60 -> 197 | G44: =F44-G7+G60 -> 97 | H44: =G44-H7+H60 -> 423 | I44: =H44-I7+I60 -> 313 | J44: =I44-J7+J60 -> 223 | K44: =J44-K7+K60 -> 172 | N44: New York | O44: =C44 -> 650 | P44: =O44-D7+P60 -> 489 | Q44: =P44-E7+Q60 -> 344 | R44: =Q44-F7+R60 -> 197 | S44: =R44-G7+S60 -> 97 | T44: =S44-H7+T60 -> 423 | U44: =T44-I7+U60 -> 313 | V44: =U44-J7+V60 -> 223 | W44: =V44-K7+W60 -> 172
B45: Montreal | C45: =Inputs!C13 -> 250 | D45: =C45-D8+D61 -> 231 | E45: =D45-E8+E61 -> 211 | F45: =E45-F8+F61 -> 190 | G45: =F45-G8+G61 -> 170 | H45: =G45-H8+H61 -> 77 | I45: =H45-I8+I61 -> 194 | J45: =I45-J8+J61 -> 108 | K45: =J45-K8+K61 -> 210 | N45: Montreal | O45: =C45 -> 250 | P45: =O45-D8+P61 -> 231 | Q45: =P45-E8+Q61 -> 211 | R45: =Q45-F8+R61 -> 190 | S45: =R45-G8+S61 -> 170 | T45: =S45-H8+T61 -> 77 | U45: =T45-I8+U61 -> -6 | V45: =U45-J8+V61 -> 108 | W45: =V45-K8+W61 -> 10
B46: DC | C46: =Inputs!C14 -> 1600 | D46: =C46-SUM(D15,D9)+D62 -> 1600 | E46: =D46-SUM(E15,E9)+E62 -> 1405 | F46: =E46-SUM(F15,F9)+F62 -> 927 | G46: =F46-SUM(G15,G9)+G62 -> 377 | H46: =G46-SUM(H15,H9)+H62 -> 377 | I46: =H46-SUM(I15,I9)+I62 -> 1177 | J46: =I46-SUM(J15,J9)+J62 -> 1177 | K46: =J46-SUM(K15,K9)+K62 -> 1177 | N46: DC | O46: =C46 -> 1600 | P46: =O46-SUM(P15,D9)+P62 -> 1600 | Q46: =P46-SUM(Q15,E9)+Q62 -> 1405 | R46: =Q46-SUM(R15,F9)+R62 -> 927 | S46: =R46-SUM(S15,G9)+S62 -> 577 | T46: =S46-SUM(T15,H9)+T62 -> 377 | U46: =T46-SUM(U15,I9)+U62 -> 1377 | V46: =U46-SUM(V15,J9)+V62 -> 627 | W46: =V46-SUM(W15,K9)+W62 -> 427
B48: Inventory In-Transit DRP | N48: Inventory In-Transit ROP
B49: BACK to top | D49: Period | N49: BACK to top | P49: Period
...

Sheet Scenario
B1: Simulation run | J1: Summary of simulation results
B2: (this table from row 5-9 shows the result of one scenario linked from the sheet "Flowcasting_vs_ROP", and it is run for 100 times. The results of 100 scenarios are recorded below from row 10 onwards)
C3: Backlog quantities | E3: Average inventory | G3: Number of order | K3: =C3 -> Backlog quantities | M3: =E3 -> Average inventory | O3: =G3 -> Number of order | Z3: =E3 -> Average inventory | AC3: Bin | AD3: =Z3 -> Average inventory | AE3: DRP | AF3: ROP
C4: DRP | D4: ROP | E4: DRP | F4: ROP | G4: DRP | H4: ROP | K4: DRP | L4: ROP | M4: DRP | N4: ROP | O4: DRP | P4: ROP | Z4: Min | AA4: =MIN($E$10:$F$109) -> 2440.8889 | AC4: 1 | AD4: =AA4 -> 2440.8889 | AE4: {=FREQUENCY(E10:E109,$AD$4:$AD$13)} -> 1 | AF4: {=FREQUENCY(F10:F109,$AD$4:$AD$13)} -> 0
B5: Chicago | C5: =-1*SUMIF(Flowcasting_vs_ROP!C43:K43,"<0") -> 0 | D5: =-1*SUMIF(Flowcasting_vs_ROP!O43:W43,"<0") -> 0 | E5: =AVERAGE(Flowcasting_vs_ROP!C28:K28) -> 412.77778 | F5: =AVERAGE(Flowcasting_vs_ROP!O28:W28) -> 490.55556 | G5: =COUNTIF(Flowcasting_vs_ROP!C20:K20,">0") -> 1 | H5: =COUNTIF(Flowcasting_vs_ROP!O20:W20,">0") -> 2 | J5: Min | K5: =MIN(C$10:C$109) -> 0 | L5: =MIN(D$10:D$109) -> 0 | M5: =MIN(E$10:E$109) -> 2440.8889 | N5: =MIN(F$10:F$109) -> 2442.3333 | O5: =MIN(G$10:G$109) -> 5 | P5: =MIN(H$10:H$109) -> 8 | Z5: Max | AA5: =MAX($E$10:$F$109)+0.01 -> 2553.8989 | AC5: 2 | AD5: =MIN(AD4+$AA$7,$AA$5) -> 2453.8889 | AE5: 0 | AF5: 1
B6: New York | C6: =-1*SUMIF(Flowcasting_vs_ROP!C44:K44,"<0") -> 0 | D6: =-1*SUMIF(Flowcasting_vs_ROP!O44:W44,"<0") -> 0 | E6: =AVERAGE(Flowcasting_vs_ROP!C29:K29) -> 412 | F6: =AVERAGE(Flowcasting_vs_ROP!O29:W29) -> 500.88889 | G6: =COUNTIF(Flowcasting_vs_ROP!C21:K21,">0") -> 1 | H6: =COUNTIF(Flowcasting_vs_ROP!O21:W21,">0") -> 2 | J6: Max | K6: =MAX(C$10:C$109) -> 0 | L6: =MAX(D$10:D$109) -> 43 | M6: =MAX(E$10:E$109) -> 2553.4444 | N6: =MAX(F$10:F$109) -> 2553.8889 | O6: =MAX(G$10:G$109) -> 5 | P6: =MAX(H$10:H$109) -> 8 | Z6: N.histograms | AA6: 10 | AC6: 3 | AD6: =MIN(AD5+$AA$7,$AA$5) -> 2466.8889 | AE6: 4 | AF6: 4
B7: Montreal | C7: =-1*SUMIF(Flowcasting_vs_ROP!C45:K45,"<0") -> 0 | D7: =-1*SUMIF(Flowcasting_vs_ROP!O45:W45,"<0") -> 6 | E7: =AVERAGE(Flowcasting_vs_ROP!C30:K30) -> 271.22222 | F7: =AVERAGE(Flowcasting_vs_ROP!O30:W30) -> 205.22222 | G7: =COUNTIF(Flowcasting_vs_ROP!C22:K22,">0") -> 2 | H7: =COUNTIF(Flowcasting_vs_ROP!O22:W22,">0") -> 2 | J7: Average | K7: =AVERAGE(C$10:C$109) -> 0 | L7: =AVERAGE(D$10:D$109) -> 11.91 | M7: =AVERAGE(E$10:E$109) -> 2498.8833 | N7: =AVERAGE(F$10:F$109) -> 2500.2067 | O7: =AVERAGE(G$10:G$109) -> 5 | P7: =AVERAGE(H$10:H$109) -> 8 | Z7: Step-size | AA7: =MAX(1,ROUND((AA5-AA4)/(AA6-1),0)) -> 13 | AC7: 4 | AD7: =MIN(AD6+$AA$7,$AA$5) -> 2479.8889 | AE7: 17 | AF7: 15
B8: DC | C8: =-1*SUMIF(Flowcasting_vs_ROP!C46:K46,"<0") -> 0 | D8: =-1*SUMIF(Flowcasting_vs_ROP!O46:W46,"<0") -> 0 | E8: =AVERAGE(Flowcasting_vs_ROP!C31:K31) -> 1424.1111 | F8: =AVERAGE(Flowcasting_vs_ROP!O31:W31) -> 1324.1111 | G8: =COUNTIF(Flowcasting_vs_ROP!C23:K23,">0") -> 1 | H8: =COUNTIF(Flowcasting_vs_ROP!O23:W23,">0") -> 2 | J8: SD | K8: =STDEV(C$10:C$109) -> 0 | L8: =STDEV(D$10:D$109) -> 9.7722499 | M8: =STDEV(E$10:E$109) -> 23.050206 | N8: =STDEV(F$10:F$109) -> 22.920358 | O8: =STDEV(G$10:G$109) -> 0 | P8: =STDEV(H$10:H$109) -> 0 | AC8: 5 | AD8: =MIN(AD7+$AA$7,$AA$5) -> 2492.8889 | AE8: 22 | AF8: 23
B9: Total | C9: =SUM(C5:C8) -> 0 | D9: =SUM(D5:D8) -> 6 | E9: =SUM(E5:E8) -> 2520.1111 | F9: =SUM(F5:F8) -> 2520.7778 | G9: =SUM(G5:G8) -> 5 | H9: =SUM(H5:H8) -> 8 | AC9: 6 | AD9: =MIN(AD8+$AA$7,$AA$5) -> 2505.8889 | AE9: 18 | AF9: 18
A10: Scenarios | B10: 1 | C10: 0 | D10: 18 | E10: 2535.2222 | F10: 2537.2222 | G10: 5 | H10: 8 | AC10: 7 | AD10: =MIN(AD9+$AA$7,$AA$5) -> 2518.8889 | AE10: 19 | AF10: 19
B11: 2 | C11: 0 | D11: 4 | E11: 2553.4444 | F11: 2553.8889 | G11: 5 | H11: 8 | AC11: 8 | AD11: =MIN(AD10+$AA$7,$AA$5) -> 2531.8889 | AE11: 9 | AF11: 10
B12: 3 | C12: 0 | D12: 2 | E12: 2484.3333 | F12: 2484.5556 | G12: 5 | H12: 8 | AC12: 9 | AD12: =MIN(AD11+$AA$7,$AA$5) -> 2544.8889 | AE12: 6 | AF12: 6
B13: 4 | C13: 0 | D13: 22 | E13: 2507.3333 | F13: 2509.7778 | G13: 5 | H13: 8 | AC13: 10 | AD13: =MIN(AD12+$AA$7,$AA$5) -> 2553.8989 | AE13: 4 | AF13: 4
B14: 5 | C14: 0 | D14: 0 | E14: 2551.2222 | F14: 2551.2222 | G14: 5 | H14: 8
B15: 6 | C15: 0 | D15: 23 | E15: 2461.2222 | F15: 2463.7778 | G15: 5 | H15: 8
B16: 7 | C16: 0 | D16: 0 | E16: 2531.7778 | F16: 2531.7778 | G16: 5 | H16: 8 | Z16: =C3 -> Backlog quantities | AC16: Bin | AD16: =Z16 -> Backlog quantities | AE16: DRP | AF16: ROP
B17: 8 | C17: 0 | D17: 13 | E17: 2440.8889 | F17: 2442.3333 | G17: 5 | H17: 8 | Z17: Min | AA17: =MIN($C$10:$D$109) -> 0 | AC17: 1 | AD17: =AA17 -> 0 | AE17: {=FREQUENCY(C10:C109,$AD$17:$AD$26)} -> 100 | AF17: {=FREQUENCY(D10:D109,$AD$17:$AD$26)} -> 15
B18: 9 | C18: 0 | D18: 0 | E18: 2488.4444 | F18: 2488.4444 | G18: 5 | H18: 8 | Z18: Max | AA18: =MAX($C$10:$D$109)+0.01 -> 43.01 | AC18: 2 | AD18: =MIN(AD17+$AA$20,$AA$18) -> 5 | AE18: 0 | AF18: 15
B19: 10 | C19: 0 | D19: 25 | E19: 2485.6667 | F19: 2488.4444 | G19: 5 | H19: 8 | Z19: N.histograms | AA19: 10 | AC19: 3 | AD19: =MIN(AD18+$AA$20,$AA$18) -> 10 | AE19: 0 | AF19: 23
B20: 11 | C20: 0 | D20: 9 | E20: 2536.6667 | F20: 2537.6667 | G20: 5 | H20: 8 | Z20: Step-size | AA20: =MAX(1,ROUND((AA18-AA17)/(AA19-1),0)) -> 5 | AC20: 4 | AD20: =MIN(AD19+$AA$20,$AA$18) -> 15 | AE20: 0 | AF20: 17
B21: 12 | C21: 0 | D21: 14 | E21: 2487.5556 | F21: 2489.1111 | G21: 5 | H21: 8 | AC21: 5 | AD21: =MIN(AD20+$AA$20,$AA$18) -> 20 | AE21: 0 | AF21: 9
B22: 13 | C22: 0 | D22: 3 | E22: 2471.1111 | F22: 2471.4444 | G22: 5 | H22: 8 | AC22: 6 | AD22: =MIN(AD21+$AA$20,$AA$18) -> 25 | AE22: 0 | AF22: 10
B23: 14 | C23: 0 | D23: 5 | E23: 2486.6667 | F23: 2487.2222 | G23: 5 | H23: 8 | AC23: 7 | AD23: =MIN(AD22+$AA$20,$AA$18) -> 30 | AE23: 0 | AF23: 8
B24: 15 | C24: 0 | D24: 26 | E24: 2532.6667 | F24: 2535.5556 | G24: 5 | H24: 8 | AC24: 8 | AD24: =MIN(AD23+$AA$20,$AA$18) -> 35 | AE24: 0 | AF24: 1
B25: 16 | C25: 0 | D25: 0 | E25: 2526.8889 | F25: 2526.8889 | G25: 5 | H25: 8 | AC25: 9 | AD25: =MIN(AD24+$AA$20,$AA$18) -> 40 | AE25: 0 | AF25: 1
B26: 17 | C26: 0 | D26: 0 | E26: 2492.7778 | F26: 2492.7778 | G26: 5 | H26: 8 | AC26: 10 | AD26: =MIN(AD25+$AA$20,$AA$18) -> 43.01 | AE26: 0 | AF26: 1
B27: 18 | C27: 0 | D27: 25 | E27: 2509.4444 | F27: 2512.2222 | G27: 5 | H27: 8
B28: 19 | C28: 0 | D28: 11 | E28: 2502.2222 | F28: 2503.4444 | G28: 5 | H28: 8
B29: 20 | C29: 0 | D29: 21 | E29: 2509.5556 | F29: 2511.8889 | G29: 5 | H29: 8 | Z29: =G3 -> Number of order | AC29: Bin | AD29: =Z29 -> Number of order | AE29: DRP | AF29: ROP
B30: 21 | C30: 0 | D30: 3 | E30: 2499.7778 | F30: 2500.1111 | G30: 5 | H30: 8 | Z30: Min | AA30: =MIN($G$10:$H$109) -> 5 | AC30: 1 | AD30: =AA30 -> 5 | AE30: {=FREQUENCY(G10:G109,$AD$30:$AD$39)} -> 100 | AF30: {=FREQUENCY(H10:H109,$AD$30:$AD$39)} -> 0
B31: 22 | C31: 0 | D31: 1 | E31: 2493.1111 | F31: 2493.2222 | G31: 5 | H31: 8 | Z31: Max | AA31: =MAX($G$10:$H$109)+0.01 -> 8.01 | AC31: 2 | AD31: =MIN(AD30+$AA$33,$AA$31) -> 5.3344444 | AE31: 0 | AF31: 0
B32: 23 | C32: 0 | D32: 8 | E32: 2470.1111 | F32: 2471 | G32: 5 | H32: 8 | Z32: N.histograms | AA32: 10 | AC32: 3 | AD32: =MIN(AD31+$AA$33,$AA$31) -> 5.6688889 | AE32: 0 | AF32: 0
B33: 24 | C33: 0 | D33: 14 | E33: 2476.6667 | F33: 2478.2222 | G33: 5 | H33: 8 | Z33: Step-size | AA33: =(AA31-AA30)/(AA32-1) -> 0.33444444 | AC33: 4 | AD33: =MIN(AD32+$AA$33,$AA$31) -> 6.0033333 | AE33: 0 | AF33: 0
B34: 25 | C34: 0 | D34: 15 | E34: 2489.5556 | F34: 2491.2222 | G34: 5 | H34: 8 | AC34: 5 | AD34: =MIN(AD33+$AA$33,$AA$31) -> 6.3377778 | AE34: 0 | AF34: 0
B35: 26 | C35: 0 | D35: 17 | E35: 2476.8889 | F35: 2478.7778 | G35: 5 | H35: 8 | AC35: 6 | AD35: =MIN(AD34+$AA$33,$AA$31) -> 6.6722222 | AE35: 0 | AF35: 0
B36: 27 | C36: 0 | D36: 7 | E36: 2469 | F36: 2469.7778 | G36: 5 | H36: 8 | AC36: 7 | AD36: =MIN(AD35+$AA$33,$AA$31) -> 7.0066667 | AE36: 0 | AF36: 0
B37: 28 | C37: 0 | D37: 18 | E37: 2476.1111 | F37: 2478.1111 | G37: 5 | H37: 8 | AC37: 8 | AD37: =MIN(AD36+$AA$33,$AA$31) -> 7.3411111 | AE37: 0 | AF37: 0
B38: 29 | C38: 0 | D38: 3 | E38: 2482.2222 | F38: 2482.5556 | G38: 5 | H38: 8 | AC38: 9 | AD38: =MIN(AD37+$AA$33,$AA$31) -> 7.6755556 | AE38: 0 | AF38: 0
B39: 30 | C39: 0 | D39: 14 | E39: 2469.4444 | F39: 2471 | G39: 5 | H39: 8 | AC39: 10 | AD39: =MIN(AD38+$AA$33,$AA$31) -> 8.01 | AE39: 0 | AF39: 100
B40: 31 | C40: 0 | D40: 29 | E40: 2486.2222 | F40: 2489.4444 | G40: 5 | H40: 8
...
