Workbook

Sheet IS
A1: KRAFT FOODS INC.
A2: Consolidated Statements of Earnings (years ended December 31)
A3: in millions of dollars
C5: 2011 | D5: 2010** | E5: 2009* | F5: 2008*
A6: Net revenues | C6: 54365 | D6: 49207 | E6: 38754 | F6: 40492
A7: Cost of sales*** | C7: 35350 | D7: 31305 | E7: 24819 | F7: 27164
B8: Gross profit | C8: =C6-C7 -> 19015 | D8: =D6-D7 -> 17902 | E8: =E6-E7 -> 13935 | F8: =F6-F7 -> 13328
A10: Selling, general and admin. expenses (incl.research) | C10: 12140 | D10: 12001 | E10: 8784 | F10: 8613
A11: Asset impairment and exit costs | C11: -7 | D11: 18 | E11: -64 | F11: 1024
A12: Gain on redemption of United Biscuits invest.
A13: Losses /(gains) on divestitures, net | C13: 0 | D13: 6 | E13: 6 | F13: 92
A14: Amortization of intangibles | C14: 225 | D14: 211 | E14: 26 | F14: 23
B15: Operating income | C15: =C8-C10-C11-C12-C13-C14 -> 6657 | D15: =D8-D10-D11-D12-D13-D14 -> 5666 | E15: =E8-E10-E11-E12-E13-E14 -> 5183 | F15: =F8-F10-F11-F12-F13-F14 -> 3576
A17: Interest and other expense | C17: 1885 | D17: 2024 | E17: 1237 | F17: 1240
B18: EBIT from continuing op. | C18: =C15-C17 -> 4772 | D18: =D15-D17 -> 3642 | E18: =E15-E17 -> 3946 | F18: =F15-F17 -> 2336
A19: Provision for income taxes | C19: 1225 | D19: 1147 | E19: 1136 | F19: 658
B20: Earnings from contg. Op. | C20: =C18-C19 -> 3547 | D20: =D18-D19 -> 2495 | E20: =E18-E19 -> 2810 | F20: =F18-F19 -> 1678
A22: Earnings and gains from discontinued op. | C22: 0 | D22: 1644 | E22: 218 | F22: 1215
B23: net of income taxes
A24: Net earnings | C24: =C20+C22 -> 3547 | D24: =D20+D22 -> 4139 | E24: =E20+E22 -> 3028 | F24: =F20+F22 -> 2893
A25: Non-controlling interest | C25: 20 | D25: 25 | E25: 7 | F25: 9
A26: Net earnings attributable to Kraft Foods | C26: =C24-C25 -> 3527 | D26: =D24-D25 -> 4114 | E26: =E24-E25 -> 3021 | F26: =F24-F25 -> 2884
A28: * Revised in 2010 for the sale of Frozen Pizza in Q1 of 2010
A29: ** Includes Cadbury's results from February 2, 2010
A30: *** Includes depreciation on production-related assets

Sheet BS
A1: KRAFT FOODS INC.
A2: Consolidated Balance Sheets (years ended December 31)
A3: in millions of dollars
C4: 2011 | D4: 2010**** | E4: 2009
A5: ASSETS
A6: Cash and cash equivalents | C6: 1974 | D6: 2481 | E6: 2101
A7: Receivables, net | C7: 6361 | D7: 6539 | E7: 5197
A8: Inventories, net | C8: 5706 | D8: 5310 | E8: 3775
A9: Deferred income taxes | C9: 912 | D9: 898 | E9: 730
A10: Other current assets | C10: 1249 | D10: 993 | E10: 651
C11: =SUM(C6:C10) -> 16202 | D11: =SUM(D6:D10) -> 16221 | E11: =SUM(E6:E10) -> 12454
A12: Property, plant and equipment, net | C12: 13813 | D12: 13792 | E12: 10693
A13: Goodwill | C13: 37297 | D13: 37856 | E13: 28764
A14: Intangible assets, net | C14: 25186 | D14: 25963 | E14: 13429
A15: Prepaid pension assets | C15: 31 | D15: 86 | E15: 115
A16: Other assets | C16: 1308 | D16: 1371 | E16: 1259
C17: =C11+SUM(C12:C16) -> 93837 | D17: =D11+SUM(D12:D16) -> 95289 | E17: =E11+SUM(E12:E16) -> 66714
A18: LIABILITIES
A19: Short-term borrowings | C19: 182 | D19: 750 | E19: 453
A20: Current portion of long-term debt | C20: 3654 | D20: 1115 | E20: 513
A21: Amount due to Altria and affiliates
A22: Accounts payable | C22: 5525 | D22: 5409 | E22: 3766
A23: Accrued marketing | C23: 2863 | D23: 2515 | E23: 2181
A24: Accrued employment costs | C24: 1365 | D24: 1292 | E24: 1175
A25: Other current liabilities | C25: 4856 | D25: 4812 | E25: 3403
C26: =SUM(C19:C25) -> 18445 | D26: =SUM(D19:D25) -> 15893 | E26: =SUM(E19:E25) -> 11491
A27: Long-term debt | C27: 23095 | D27: 26859 | E27: 18024
A28: Deferred income taxes | C28: 6738 | D28: 7984 | E28: 4508
A29: Accrued pension costs | C29: 3597 | D29: 2382 | E29: 1765
A30: Accrued post-retirement health-care costs | C30: 3238 | D30: 3046 | E30: 2816
A31: Other liabilities | C31: 3396 | D31: 3183 | E31: 2138
C32: =C26+SUM(C27:C31) -> 58509 | D32: =D26+SUM(D27:D31) -> 59347 | E32: =E26+SUM(E27:E31) -> 40742
A33: SHAREHOLDERS'EQUITY
A34: Common Stock (issued in 08 and 09)*
A35: Additional paid-in capital** | C35: 31318 | D35: 31231 | E35: 23611
A36: Retained earnings | C36: 18012 | D36: 16619 | E36: 14636
A37: Accumulated other comprehensive losses | C37: -6637 | D37: -3890 | E37: -3955
A38: Treasury stock, at cost*** | C38: -7476 | D38: -8126 | E38: -8416
A39: Non-controlling interest | C39: 111 | D39: 108 | E39: 96
C40: =SUM(C34:C39) -> 35328 | D40: =SUM(D34:D39) -> 35942 | E40: =SUM(E34:E39) -> 25972
...

Sheet CFS
A1: KRAFT FOODS INC.
A2: Consolidated Statements of Cash Flows (years ended December 31) in millions of dollars
D4: 2011 | E4: 2010* | F4: 2009 | G4: 2008**
A5: CASH PROVIDED BY OPERATING ACTIVITIES
A6: Net earnings | D6: =IS!C24 -> 3547 | E6: =IS!D24 -> 4139 | F6: =IS!E24 -> 3028 | G6: =IS!F24 -> 2893
A7: Adjustments to reconcile net earnings to op. cash flows
B8: Depreciation and amortization | D8: 1485 | E8: 1440 | F8: 931 | G8: 986
B9: Stock-based compensation expense | D9: 181 | E9: 174 | F9: 164 | G9: 178
B10: Deferred income tax | D10: -351 | E10: 251 | F10: 38 | G10: -208
B11: Gain on redemption of United Biscuits investment
B12: Losses/(gains) on divestitures, net | E12: 6 | F12: 6 | G12: 92
B13: Gain on discontinued operations | E13: -1596 | G13: -926
B14: Asset impairment and exit costs, net of cash paid | E14: 55 | F14: 17 | G14: 731
B15: Change in assets and liab., excluding the effects
C16: of acquisitions and divestitures:
C17: Receivables, net | D17: -115 | E17: -165 | F17: -17 | G17: -39
C18: Inventories, net | D18: -556 | E18: -359 | F18: 299 | G18: -151
C19: Accounts payable | D19: 300 | E19: 83 | F19: 126 | G19: 29
C20: Amounts due to Altria and affiliates
C21: Other current assets | D21: -374 | E21: 42 | F21: 351 | G21: -535
C22: Other current liabilities | D22: 676 | E22: -776 | F22: 111 | G22: 985
B23: Change in pension assets and post-retirement liab. | D23: -354 | E23: 125 | F23: -239 | G23: 19
B24: Other | D24: 81 | E24: 329 | F24: 269 | G24: 87
A25: Net cash provided by operating activities | D25: =SUM(D6:D24) -> 4520 | E25: =SUM(E6:E24) -> 3748 | F25: =SUM(F6:F24) -> 5084 | G25: =SUM(G6:G24) -> 4141
A27: CASH PROVIDED BY (USED IN) INVESTING ACTIVITIES
B28: Capital expenditures | D28: -1771 | E28: -1661 | F28: -1330 | G28: -1367
B29: Acquisitions, net of cash received | E29: -9848 | G29: -99
B30: Proceeds from divestitures, net of disbursements | E30: 4039 | F30: 41 | G30: 97
B31: Other | D31: 43 | E31: 8 | F31: 50 | G31: 49
A32: Net cash used by investing activities | D32: =SUM(D28:D31) -> -1728 | E32: =SUM(E28:E31) -> -7462 | F32: =SUM(F28:F31) -> -1239 | G32: =SUM(G28:G31) -> -1320
A34: CASH PROVIDED BY (USED IN) FINANCING ACTIVITIES
B35: Net (repayment)/issuance of short-term borrowings | D35: -565 | E35: -864 | F35: -446 | G35: -5912
B36: Long-term debt proceeds | D36: 36 | E36: 9433 | F36: 3 | G36: 7018
B37: Long-term debt repaid | D37: -1114 | E37: -2134 | F37: -968 | G37: -795
B38: (Decrease)/increase in amount due to Altria Group
B39: Proceeds from stock option exercises and other | D39: 511 | E39: -72 | F39: -10
B40: Repurchase of Common Stock | G40: -777
B41: Dividends paid | D41: -2043 | E41: -2175 | F41: -1712 | G41: -1663
B42: Other | G42: 72
A43: Net cash (used in)/provided by financing activities | D43: =SUM(D35:D42) -> -3175 | E43: =SUM(E35:E42) -> 4188 | F43: =SUM(F35:F42) -> -3133 | G43: =SUM(G35:G42) -> -2057
...
