Workbook

Sheet IS-BS
A1: THE HERSHEY COMPANY
A2: CONSOLIDATED STATEMENTS OF INCOME (in millions of US dollars)
C3: 2011 | D3: 2010 | E3: 2009 | F3: 2008
A5: Net sales | C5: 6080.788 | D5: 5671.009 | E5: 5298.668 | F5: 5132.768
A6: Cost of sales | C6: -3548.896 | D6: -3255.801 | E6: -3245.531 | F6: -3375.05
A7: Selling, marketing and administrative costs | C7: -1477.75 | D7: -1426.477 | E7: -1208.672 | F7: -1073.019
A8: Business realignment and impairment charges, net | C8: 0.886 | D8: -83.433 | E8: -82.875 | F8: -94.801
B9: Income before interest and inc. taxes | C9: =SUM(C5:C8) -> 1055.028 | D9: =SUM(D5:D8) -> 905.298 | E9: =SUM(E5:E8) -> 761.59 | F9: =SUM(F5:F8) -> 589.898
A10: Interest expense, net | C10: -92.183 | D10: -96.434 | E10: -90.459 | F10: -97.876
B11: Income before income taxes | C11: =SUM(C9:C10) -> 962.845 | D11: =SUM(D9:D10) -> 808.864 | E11: =SUM(E9:E10) -> 671.131 | F11: =SUM(F9:F10) -> 492.022
A12: Provision for income taxes | C12: -333.883 | D12: -299.065 | E12: -235.137 | F12: -180.617
B13: Net income | C13: =C11+C12 -> 628.962 | D13: =D11+D12 -> 509.799 | E13: =E11+E12 -> 435.994 | F13: =F11+F12 -> 311.405
A15: CONSOLIDATED BALANCE SHEETS (in millions of US dollars)
C16: 2011 | D16: 2010 | E16: 2009 | F16: 2008
A17: ASSETS
A18: Cash and cash equivalents | C18: 693.686 | D18: 884.642 | E18: 253.605 | F18: 37.103
A19: Accounts receivable - trade | C19: 399.499 | D19: 390.061 | E19: 410.39 | F19: 455.153
A20: Inventories | C20: 648.953 | D20: 533.622 | E20: 519.712 | F20: 592.53
A21: Deferred income taxes | C21: 136.861 | D21: 55.76 | E21: 39.868 | F21: 70.903
A22: Prepaid expenses and other | C22: 167.559 | D22: 141.132 | E22: 161.859 | F22: 189.256
C23: =SUM(C18:C22) -> 2046.558 | D23: =SUM(D18:D22) -> 2005.217 | E23: =SUM(E18:E22) -> 1385.434 | F23: =SUM(F18:F22) -> 1344.945
A24: Property, plant and equipment - net | C24: 1559.717 | D24: 1437.702 | E24: 1404.767 | F24: 1458.949
A25: Goodwill | C25: 516.745 | D25: 524.134 | E25: 571.58 | F25: 554.677
A26: Other intangibles | C26: 111.913 | D26: 123.08 | E26: 125.52 | F26: 110.772
A27: Deferred income taxes | C27: 38.544 | D27: 21.387 | E27: 4.353 | F27: 13.815
A28: Other assets | C28: 138.722 | D28: 161.212 | E28: 183.377 | F28: 151.561
B29: Total assets | C29: =SUM(C23:C28) -> 4412.199 | D29: =SUM(D23:D28) -> 4272.732 | E29: =SUM(E23:E28) -> 3675.031 | F29: =SUM(F23:F28) -> 3634.719
A30: LIABILITIES AND STOCKHOLDERS' EQUITY
A31: Accounts payable | C31: 420.017 | D31: 410.655 | E31: 287.935 | F31: 249.454
A32: Accrued liabilities | C32: 612.186 | D32: 593.308 | E32: 546.462 | F32: 504.065
A33: Accrued income taxes | C33: 1.899 | D33: 9.402 | E33: 36.918 | F33: 15.189
A34: Short-term debt | C34: 42.08 | D34: 24.088 | E34: 24.066 | F34: 483.12
A35: Current portion of long-term debt | C35: 97.593 | D35: 261.392 | E35: 15.247 | F35: 18.384
C36: =SUM(C31:C35) -> 1173.775 | D36: =SUM(D31:D35) -> 1298.845 | E36: =SUM(E31:E35) -> 910.628 | F36: =SUM(F31:F35) -> 1270.212
A37: Long-term debt | C37: 1748.5 | D37: 1541.825 | E37: 1502.73 | F37: 1505.954
A38: Other long-term liabilities | C38: 617.276 | D38: 494.461 | E38: 501.334 | F38: 504.963
A39: Deferred income taxes | F39: 3.646
A40: Shareholders'equity
B41: Common Stock | C41: 299.269 | D41: 299.195 | E41: 299.192 | F41: 299.19
B42: Class B Common Stock | C42: 60.632 | D42: 60.706 | E42: 60.709 | F42: 60.711
...

Sheet CFS
A1: THE HERSHEY COMPANY
A2: CONSOLIDATED STATEMENTS OF CASH FLOWS (in millions of US dollars)
C3: 2011 | D3: 2010 | E3: 2009 | F3: 2008
A5: Cash flows from Operating activities
A6: Net income | C6: ='IS-BS'!C13 -> 628.962 | D6: ='IS-BS'!D13 -> 509.799 | E6: ='IS-BS'!E13 -> 435.994 | F6: ='IS-BS'!F13 -> 311.405
A7: Depreciation and amortization | C7: 215.763 | D7: 197.116 | E7: 182.411 | F7: 249.491
A8: Stok-based compensation expense, net of tax | C8: 28.341 | D8: 32.055 | E8: 34.927 | F8: 23.583
A9: Excess tax-benefit from stock-based compensation | C9: -13.997 | D9: -1.385 | E9: -4.455 | F9: -1.387
A10: Deferred income taxes | C10: 33.611 | D10: -18.654 | E10: -40.578 | F10: -17.125
A11: Gain on sale of trademarks licensing rights | C11: -11.072
A12: Business realignment and impairment charges, net of tax | C12: 30.838 | D12: 77.935 | E12: 60.823 | F12: 119.117
A13: Contributions to pension plans | C13: -8.861 | D13: -6.073 | E13: -54.457 | F13: -32.759
A14: Accounts receivable - trade | C14: -9.438 | D14: 20.329 | E14: 46.584 | F14: 31.675
A15: Inventories | C15: -115.331 | D15: -13.91 | E15: 74 | F15: 7.681
A16: Accounts payable | C16: 7.86 | D16: 90.434 | E16: 37.228 | F16: 26.435
A17: Other assets and liabilities | C17: -205.809 | D17: 13.777 | E17: 293.272 | F17: -198.555
B18: Net cash provided from Operating activities | C18: =SUM(C6:C17) -> 580.867 | D18: =SUM(D6:D17) -> 901.423 | E18: =SUM(E6:E17) -> 1065.749 | F18: =SUM(F6:F17) -> 519.561
A20: Cash flows provided (used by) Investing activities
A21: Capital additions | C21: -323.961 | D21: -179.538 | E21: -126.324 | F21: -262.643
A22: Capitalized software additions | C22: -23.606 | D22: -21.949 | E22: -19.146 | F22: -20.336
A23: Proceeds from sale of property, plant and equipment | C23: 0.312 | D23: 2.201 | E23: 10.364 | F23: 82.815
A24: Proceeds from sale of trademark licensing rights | C24: 20
A25: Business acquisitions | C25: -5.75 | E25: -15.22
A26: Proceeds from divestitures | F26: 1.96
B27: Net cash from Investing activities | C27: =SUM(C21:C26) -> -333.005 | D27: =SUM(D21:D26) -> -199.286 | E27: =SUM(E21:E26) -> -150.326 | F27: =SUM(F21:F26) -> -198.204
A29: Cash flows provided (used by) Financing activities
A30: Net change in short-term borrowings | C30: 10.834 | D30: 1.156 | E30: -458.047 | F30: -371.393
A31: Long-term borrowings | C31: 249.126 | D31: 348.208 | F31: 247.845
A32: Repayment of long-term debt | C32: -256.189 | D32: -71.548 | E32: -8.252 | F32: -4.977
A33: Proceeds from lease financing agreement | C33: 47.601
A34: Cash dividends paid | C34: -304.083 | D34: -283.434 | E34: -263.403 | F34: -262.949
A35: Exercise of stock options | C35: 184.411 | D35: 92.033 | E35: 28.318 | F35: 36.996
A36: Excess tax benefits from stock-based compensation | C36: 13.997 | D36: 1.385 | E36: 4.455 | F36: 1.387
A37: Contributions from non-controlling interests in subs. | D37: 10.199 | E37: 7.322
A38: Repurchase of common stock | C38: -384.515 | D38: -169.099 | E38: -9.314 | F38: -60.361
B39: Net cash from Financing activities | C39: =SUM(C30:C38) -> -438.818 | D39: =SUM(D30:D38) -> -71.1 | E39: =SUM(E30:E38) -> -698.921 | F39: =SUM(F30:F38) -> -413.452
A41: Net cash flow | C41: =C18+C27+C39 -> -190.956 | D41: =D18+D27+D39 -> 631.037 | E41: =E18+E27+E39 -> 216.502 | F41: =F18+F27+F39 -> -92.095
A42: Check:
A43: Cash and equivalents, beginning of year | C43: ='IS-BS'!D18 -> 884.642 | D43: ='IS-BS'!E18 -> 253.605 | E43: ='IS-BS'!F18 -> 37.103 | F43: 129.198
A44: Cash and equivalents, end of year | C44: ='IS-BS'!C18 -> 693.686 | D44: ='IS-BS'!D18 -> 884.642 | E44: ='IS-BS'!E18 -> 253.605 | F44: ='IS-BS'!F18 -> 37.103
...

Sheet Feuil3
