Workbook

Sheet IS
A1: KRAFT FOODS INC.
A2: Consolidated Statements of Earnings (years ended December 31)
A3: in millions of dollars
C5: 6 m - 2009 | D5: 2008 | E5: 2007 | F5: 2006
A6: Net revenues | C6: 19558 | D6: 42201 | E6: 36134 | F6: 33256
A7: Cost of sales* | C7: 12628 | D7: 28186 | E7: 24057 | F7: 21344
B8: Gross profit | C8: =C6-C7 -> 6930 | D8: =D6-D7 -> 14015 | E8: =E6-E7 -> 12077 | F8: =F6-F7 -> 11912
A10: Marketing, admin. and research costs | C10: 4131 | D10: 9059 | E10: 7673 | F10: 7120
A11: Asset impairment and exit costs | C11: -26 | D11: 1024 | E11: 440 | F11: 999
A12: Gain on redemption of United Biscuits invest. | F12: -251
A13: Losses /(gains) on divestitures, net | C13: 17 | D13: 92 | E13: -15 | F13: -117
A14: Amortization of intangibles | C14: 9 | D14: 23 | E14: 13 | F14: 7
B15: Operating income | C15: =C8-C10-C11-C12-C13-C14 -> 2799 | D15: =D8-D10-D11-D12-D13-D14 -> 3817 | E15: =E8-E10-E11-E12-E13-E14 -> 3966 | F15: =F8-F10-F11-F12-F13-F14 -> 4154
A17: Interest and other expense | C17: 592 | D17: 1240 | E17: 604 | F17: 510
B18: EBIT from continuing op. | C18: =C15-C17 -> 2207 | D18: =D15-D17 -> 2577 | E18: =E15-E17 -> 3362 | F18: =F15-F17 -> 3644
A19: Provision for income taxes | C19: 716 | D19: 728 | E19: 1002 | F19: 816
B20: Earnings from cont. op. | C20: =C18-C19 -> 1491 | D20: =D18-D19 -> 1849 | E20: =E18-E19 -> 2360 | F20: =F18-F19 -> 2828
A22: Earnings and gains from discontinued op. | D22: 1052 | E22: 230 | F22: 232
B23: net of income taxes
A24: Net earnings | C24: =C20+C22 -> 1491 | D24: =D20+D22 -> 2901 | E24: =E20+E22 -> 2590 | F24: =F20+F22 -> 3060
A26: * Includes depreciation on production-related assets. The remainder of depreciation is included in Mkg,& admin. costs

Sheet BS
A1: KRAFT FOODS INC.
A2: Consolidated Balance Sheets (years ended December 31)
A3: in millions of dollars
C4: 6 m. 2009 | D4: 2008 | E4: 2007 | F4: 2006
A5: ASSETS
A6: Cash and cash equivalents | C6: 1731 | D6: 1244 | E6: 567 | F6: 239
A7: Receivables, net | C7: 4646 | D7: 4704 | E7: 5197 | F7: 3869
A8: Inventories, net | C8: 4011 | D8: 3729 | E8: 4096 | F8: 3506
A9: Deferred income taxes | C9: with other a. | D9: 861 | E9: 575 | F9: 387
A10: Other current assets | C10: 1300 | D10: 828 | E10: 302 | F10: 253
C11: =SUM(C6:C10) -> 11688 | D11: =SUM(D6:D10) -> 11366 | E11: =SUM(E6:E10) -> 10737 | F11: =SUM(F6:F10) -> 8254
A12: Property, plant and equipment, net | C12: 10224 | D12: 9917 | E12: 10778 | F12: 9693
A13: Goodwill | C13: 28225 | D13: 27581 | E13: 31193 | F13: 25553
A14: Intangible assets, net | C14: 13257 | D14: 12926 | E14: 12200 | F14: 10177
A15: Prepaid pension assets | C15: with other a. | D15: 56 | E15: 1648 | F15: 1168
A16: Other assets | C16: 1260 | D16: 1232 | E16: 1437 | F16: 729
C17: =C11+SUM(C12:C16) -> 64654 | D17: =D11+SUM(D12:D16) -> 63078 | E17: =E11+SUM(E12:E16) -> 67993 | F17: =F11+SUM(F12:F16) -> 55574
A18: LIABILITIES
A19: Short-term borrowings | C19: 856 | D19: 897 | E19: 7385 | F19: 1715
A20: Current portion of long-term debt | C20: 759 | D20: 765 | E20: 722 | F20: 1418
A21: Amount due to Altria and affiliates | F21: 607
A22: Accounts payable | C22: 3225 | D22: 3373 | E22: 4065 | F22: 2602
A23: Accrued marketing | C23: with other l. | D23: 1803 | E23: 1833 | F23: 1626
A24: Accrued employment costs | C24: with other l. | D24: 951 | E24: 913 | F24: 750
A25: Other current liabilities | C25: 5463 | D25: 3255 | E25: 2168 | F25: =1559+151+45 -> 1755
C26: =SUM(C19:C25) -> 10303 | D26: =SUM(D19:D25) -> 11044 | E26: =SUM(E19:E25) -> 17086 | F26: =SUM(F19:F25) -> 10473
A27: Long-term debt | C27: 18610 | D27: 18589 | E27: 12902 | F27: 7081
A28: Deferred income taxes | C28: 4266 | D28: 4064 | E28: 4876 | F28: 3930
A29: Accrued pension costs | C29: 2209 | D29: 2367 | E29: 810 | F29: 1022
A30: Accrued post-retirement health-care costs | C30: 2682 | D30: 2678 | E30: 2846 | F30: 3014
A31: Other liabilities | C31: 2204 | D31: 2136 | E31: 2178 | F31: 1499
C32: =C26+SUM(C27:C31) -> 40274 | D32: =D26+SUM(D27:D31) -> 40878 | E32: =E26+SUM(E27:E31) -> 40698 | F32: =F26+SUM(F27:F31) -> 27019
A33: SHAREHOLDERS'EQUITY
A34: Common Stock (issued in 08 and 09)*
A35: Additional paid-in capital** | D35: 23563 | E35: 23445 | F35: 23626
A36: Retained earnings | D36: 13345 | E36: 12209 | F36: 11128
A37: Accumulated other comprehensive losses | D37: -5994 | E37: -1835 | F37: -3069
A38: Treasury stock, at cost*** | D38: -8714 | E38: -6524 | F38: -3130
C39: 24380 | D39: =SUM(D34:D38) -> 22200 | E39: =SUM(E34:E38) -> 27295 | F39: =SUM(F34:F38) -> 28555
C40: =C32+C39 -> 64654 | D40: =D32+D39 -> 63078 | E40: =E32+E39 -> 67993 | F40: =F32+F39 -> 55574
...

Sheet CFS
A1: KRAFT FOODS INC.
A2: Consolidated Statements of Cash-Flows (years ended December 31) in millions of dollars
D4: 6 m. 2009 | E4: 2008 | F4: 2007 | G4: 2006
A5: CASH PROVIDED BY OPERATING ACTIVITIES
A6: Net earnings | E6: =IS!D24 -> 2901 | F6: =IS!E24 -> 2590 | G6: =IS!F24 -> 3060
A7: Adjustments to reconcile net earnings to op.CF
B8: Depreciation and amortization | E8: 986 | F8: 886 | G8: 891
B9: Stock-based compensation expense | E9: 178 | F9: 136 | G9: 142
B10: Deferred income tax | E10: -262 | F10: -436 | G10: -168
B11: Gain on redemption of United Biscuits investment | G11: -251
B12: Losses/(gains) on divestitures, net | E12: 92 | F12: -15 | G12: -117
B13: Gain on discontinued operations | E13: -937
B14: Asset impairment and exit costs, net of cash paid | E14: 731 | F14: 209 | G14: 793
B15: Change in assets and liab., excluding the effects
C16: of acquisitions and divestitures:
C17: Receivables, net | E17: -39 | F17: -268 | G17: -200
C18: Inventories, net | E18: -130 | F18: -191 | G18: -149
C19: Accounts payable | E19: 29 | F19: 241 | G19: 256
C20: Amounts due to Altria and affiliates | F20: -93 | G20: -133
C21: Other current assets | E21: -535 | F21: -144 | G21: -61
C22: Other current liabilities | E22: 1012 | F22: 152 | G22: -241
B23: Change in pension assets and postretirement liab. | E23: 19 | F23: 81 | G23: -128
B24: Other | E24: 96 | F24: 423 | G24: 26
A25: Net cash provided by operating activities | D25: 1720 | E25: =SUM(E6:E24) -> 4141 | F25: =SUM(F6:F24) -> 3571 | G25: =SUM(G6:G24) -> 3720
A26: Voluntary pension contribution | D26: 200
A28: CASH PROVIDED BY (USED IN) INVESTING ACTIVITIES
B29: Capital expenditures | D29: 474 | E29: -1367 | F29: -1241 | G29: -1169
B30: Acquisitions, net of cash received | E30: -99 | F30: -7437
B31: Proceeds from divestitures, net of disbursements | E31: 97 | F31: 216 | G31: 946
B32: Other | E32: 49 | F32: 46 | G32: 107
A33: Net cash used by investing activities | D33: n.a | E33: =SUM(E29:E32) -> -1320 | F33: =SUM(F29:F32) -> -8416 | G33: =SUM(G29:G32) -> -116
A35: CASH PROVIDED BY (USED IN) FINANCING ACTIVITIES
B36: Net (repayment)/issuance of short-term borrowings | E36: -5912 | F36: 5649 | G36: 343
B37: Long-term debt proceeds | E37: 7018 | F37: 6495 | G37: 69
B38: Long-term debt repaid | E38: -795 | F38: -1472 | G38: -1324
B39: (Decrease)/increase in amount due to Altria Group | F39: -149 | G39: 62
B40: Repurchase of Common Stock | E40: -777 | F40: -3708 | G40: -1254
B41: Dividends paid | E41: -1663 | F41: -1638 | G41: -1562
B42: Other | E42: 72 | F42: -56 | G42: -54
A43: Net cash (used in)/provided by financing activities | D43: n.a | E43: =SUM(E36:E42) -> -2057 | F43: =SUM(F36:F42) -> 5121 | G43: =SUM(G36:G42) -> -3720
...
