Workbook

Sheet IS
A1: CADBURY
A2: Consolidated income statements for years ended 31 December (£ million)
E3: restated****
C4: 6 m - 2009 | D4: 2008 | E4: 2007 | F4: 2006
A5: Revenue | C5: 2767 | D5: 5384 | E5: 4699 | F5: 7427
A6: Cost of sales* | C6: n.a. | D6: -2870 | E6: -2504 | F6: -3666
B7: Gross profit | D7: =D5+D6 -> 2514 | E7: =E5+E6 -> 2195 | F7: =F5+F6 -> 3761
A8: Distribution costs | C8: n.a. | D8: -247 | E8: -241 | F8: -594
A9: Marketing and selling costs | C9: n.a. | D9: -584 | E9: -487 | F9: -693
A10: Administrative expenses** | C10: n.a. | D10: -1098 | E10: -1008 | F10: -1404
A11: Amortisation of acquisition intangibles | C11: n.a. | D11: -4 | E11: -5 | F11: -23
A12: Impairment of goodwill | C12: n.a. | E12: -13 | F12: -15
A13: UK product recall | C13: n.a. | F13: -30
A14: Profit/loss on sales/writedowns of subs. and PP&E | C14: n.a. | D14: 1 | E14: 2 | F14: 40
A15: Restructuring costs | C15: -3 | D15: -194 | E15: -165 | F15: -133
B16: Profit from operations | C16: 319 | D16: =SUM(D7:D15) -> 388 | E16: =SUM(E7:E15) -> 278 | F16: =SUM(F7:F15) -> 909
A18: Share of result in associates | C18: 3 | D18: 10 | E18: 8 | F18: -16
A19: Investment revenue | C19: 18 | D19: 52 | E19: 56 | F19: 48
A20: Finance costs*** | C20: -78 | D20: -50 | E20: -88 | F20: -203
B21: Profit before taxation | C21: =SUM(C16:C20) -> 262 | D21: =SUM(D16:D20) -> 400 | E21: =SUM(E16:E20) -> 254 | F21: =SUM(F16:F20) -> 738
A22: Taxation | C22: -73 | D22: -30 | E22: -105 | F22: -215
B23: Profit from continuing operations | C23: =C21+C22 -> 189 | D23: =D21+D22 -> 370 | E23: =E21+E22 -> 149 | F23: =F21+F22 -> 523
A24: Loss/profit from discontinued operations | C24: 2 | D24: -4 | E24: 258 | F24: 642
A25: Minority interests | D25: -2 | E25: -2 | F25: 4
B26: Net profit after minority interest | C26: =C23+C24+C25 -> 191 | D26: =D23+D24+D25 -> 364 | E26: =E23+E24+E25 -> 405 | F26: =F23+F24+F25 -> 1169
A28: * Production-related depreciation/amortization included | C28: n.a. | D28: 194 | E28: 213 | F28: 206
A29: ** Remaining depreciation/amortization included | C29: n.a. | D29: 35 | E29: 35
A30: *** Finance costs include: | C30: n.a.
A31: (Net gain)/l. on derivatives not in designated hedges | C31: n.a. | D31: -94 | E31: -19 | F31: 19
A32: Interest on loans and commercial paper | C32: n.a. | D32: 141 | E32: 107 | F32: =28+102+22+27+5 -> 184
A33: Other | C33: n.a. | D33: 3
D34: =SUM(D31:D33) -> 50 | E34: =SUM(E31:E33) -> 88 | F34: =SUM(F31:F33) -> 203
A35: **** The 2007 statements were restated in 2008 to show Americas Beverages and Australia
A36: Beverages as discontinued operations. In particular, revenue went down from 8 M to 4.7 M.
A37: Costs were also restated.

Sheet BS
A1: CADBURY
A2: Consolidated Balance Sheets for years ended 31 December (£ million)
C3: 6 m - 2009 | D3: 2008 | E3: 2007 | F3: 2006
A4: ASSETS | D4: restated in 2009
A5: Cash and cash equivalents | C5: 266 | D5: 390 | E5: 493 | F5: 269
A6: Short-term investments | C6: 98 | D6: 108 | E6: 2 | F6: 126
A7: Trade receivables | C7: 923 | D7: 789 | E7: 952 | F7: 923
A8: Prepayments and accrued income | C8: with trade receiv. | D8: 81 | E8: 102 | F8: 103
A9: Tax recoverable | C9: 46 | D9: 35 | E9: 41 | F9: 36
A10: Inventories | C10: 849 | D10: 767 | E10: 821 | F10: 728
A11: Other receivables | C11: with trade receiv. | D11: =1+75+121 -> 197 | E11: 143 | F11: 160
A12: Derivative financial instruments | C12: 120 | D12: 268 | E12: 46 | F12: 51
C13: =SUM(C5:C12) -> 2302 | D13: =SUM(D5:D12) -> 2635 | E13: =SUM(E5:E12) -> 2600 | F13: =SUM(F5:F12) -> 2396
A14: Property, plant and equipment | C14: 1659 | D14: 1761 | E14: 1904 | F14: 1664
A15: Goodwill | C15: 2081 | D15: 2288 | E15: 2805 | F15: 2487
A16: Intangibles | C16: =1457+103 -> 1560 | D16: 1685 | E16: 3527 | F16: 3416
A17: Investment in associates | C17: 31 | D17: 28 | E17: 32 | F17: 22
A18: Non-trade receivables | C18: 42 | D18: 28 | E18: 50 | F18: 54
A19: Other assets | C19: 222 | D19: 200 | E19: 349 | F19: 172
B20: Total assets for cont. | C20: =SUM(C13:C19) -> 7897 | D20: =SUM(D13:D19) -> 8625 | E20: =SUM(E13:E19) -> 11267 | F20: =SUM(F13:F19) -> 10211
A21: Assets held for sale | C21: 2 | D21: 270 | E21: 71 | F21: 22
B22: Total assets | C22: =C20+C21 -> 7899 | D22: =D20+D21 -> 8895 | E22: =E20+E21 -> 11338 | F22: =F20+F21 -> 10233
A23: LIABILITIES ANS SHAREHOLDERS'EQUITY
A25: Short-term borrowings and overdrafts | C25: 729 | D25: 1189 | E25: 2562 | F25: 1439
A26: Trade payables | C26: 1345 | D26: 586 | E26: 640 | F26: 572
A27: Tax payable | C27: 181 | D27: 328 | E27: 197 | F27: 239
A28: Accruals and deferred income | C28: with trade payables | D28: =561+31 -> 592 | E28: =35+597 -> 632 | F28: =30+574 -> 604
A29: Other payables | C29: with trade payables | D29: 373 | E29: =106+323 -> 429 | F29: =127+285 -> 412
A30: Other short-term liabilities | C30: 163 | D30: 150 | E30: 111 | F30: 55
A31: Obligations under finance leases | C31: 1 | D31: 1 | E31: 21 | F31: 22
A32: Derivative financial instruments | C32: 90 | D32: 169 | E32: 22 | F32: 35
C33: =SUM(C25:C32) -> 2509 | D33: =SUM(D25:D32) -> 3388 | E33: =SUM(E25:E32) -> 4614 | F33: =SUM(F25:F32) -> 3378
A34: Accruals and non-trade payables | C34: 25 | D34: 61 | E34: 37 | F34: 30
A35: Borrowings | C35: 1395 | D35: 1194 | E35: 1120 | F35: 1810
A36: Tax payable | C36: 10 | D36: 6 | E36: 16 | F36: 5
A37: Obligations under financing leases | C37: 1 | D37: 1 | E37: 11 | F37: 33
A38: Other long-term liabilities | C38: =482+155+234 -> 871 | D38: 614 | E38: 1349 | F38: 1272
B39: Total liabilities | C39: =SUM(C33:C38) -> 4811 | D39: =SUM(D33:D38) -> 5264 | E39: =SUM(E33:E38) -> 7147 | F39: =SUM(F33:F38) -> 6528
A40: Liab. associated with assets held for sale | D40: 97 | E40: 18 | F40: 9
C41: =C39+C40 -> 4811 | D41: =D39+D40 -> 5361 | E41: =E39+E40 -> 7165 | F41: =F39+F40 -> 6537
...

Sheet CFS
A1: CADBURY
A2: Consolidated cash flow statement for years ended 31 December (£ million)
C3: 6 m - 2009 | D3: 2008 | E3: 2007 | F3: 2006
A4: OPERATING ACTIVITIES
A5: Profit from operations
B6: From continuing operations | C6: 201 | D6: =IS!D16 -> 388 | E6: =IS!E16 -> 278 | F6: =IS!F16 -> 909
B7: From discontinued operations | C7: 3 | D7: 173 | E7: 550 | F7: 3
A8: Adjustments for:
B9: Depreciation, amort., impairment | C9: 108 | D9: 244 | E9: 290 | F9: 270
B10: Restructuring | C10: -1 | D10: 71 | E10: 82 | F10: 50
B11: Non-trading items | C11: -1 | D11: -2 | E11: -2 | F11: -40
B12: Post-retirement benefits | C12: 1 | D12: -3 | E12: 5 | F12: -1
B13: Addit. funding of past service pensions deficit | D13: -30 | E13: -48 | F13: -67
B14: Share compensation taken to reserves | C14: 14 | D14: 31 | E14: 29
B15: New accounting rules adjustment | C15: 12 | D15: 53 | E15: 14
B16: Other non-cash items | C16: 1 | D16: 3 | E16: 14 | F16: 37
A17: Increase in inventories | C17: -130 | D17: -32 | E17: -61 | F17: -2
A18: Increase/decrease in receivables | C18: 45 | D18: -40 | E18: 77 | F18: 50
A19: Increase in payables | C19: -141 | D19: 2 | E19: 3 | F19: -64
A20: Interest paid | C20: -80 | D20: -165 | E20: -193 | F20: -214
A21: Interest received | C21: 15 | D21: 26 | E21: 21 | F21: 28
A22: Demerger financing costs | D22: -53
A23: Income taxes paid - excluding disposals | C23: -106 | D23: -153 | E23: -235 | F23: -256
A24: Income taxes paid - disposals | C24: -71 | D24: -44 | E24: -12 | F24: -83
B25: Net cash inflow from operating activities | C25: =SUM(C6:C24) -> -130 | D25: =SUM(D6:D24) -> 469 | E25: =SUM(E6:E24) -> 812 | F25: =SUM(F6:F24) -> 620
A26: INVESTING ACTIVITIES
A27: Dividends received from associates | D27: 10 | E27: 8 | F27: 6
A28: Proceeds on disposal of PP&E | C28: 6 | D28: 18 | E28: 57 | F28: 84
A29: Purchases of PP&E and software | C29: -167 | D29: -500 | E29: -409 | F29: -384
A30: Americas Beverages separation costs paid | D30: -107 | E30: -30
A31: Americas Bev. net cash and equiv. demerged | D31: -67
A32: Acquis./sales of bus. and associates, net of cash | C32: =-11+534 -> 523 | D32: =16+48-4 -> 60 | E32: =-352+6+27-1 -> -320 | F32: =-375+28+1295-50 -> 898
A33: Equity inv. and money market deposits | C33: 8 | D33: -245 | E33: 127 | F33: -82
B34: Net cash used in investing activities | C34: =SUM(C27:C33) -> 370 | D34: =SUM(D27:D33) -> -831 | E34: =SUM(E27:E33) -> -567 | F34: =SUM(F27:F33) -> 522
A35: FINANCING ACTIVITIES
A36: Dividends paid | C36: -148 | D36: -295 | E36: -311 | F36: -272
A37: Dividends paid to minority interests | E37: -1 | F37: -4
A38: Capital element of finance lease repaid | D38: -21 | E38: -21 | F38: -21
A39: Proceeds on issue of ordinary shares | C39: 23 | D39: 58 | E39: 56 | F39: 38
A40: Net movement of shares held under Employee Trust | C40: -12 | D40: 12 | E40: -13 | F40: -4
...

Sheet Sh.prices
B2: STOCK PRICES (Yahoo Finance UK, February 23, 2010)
C3: Cadbury* | E3: Kraft | H3: Exch. Rate
C4: Pence** | D4: USD | E4: USD | G4: pence | H4: £ per USD
H5: (x-rates.com)
B6: 39477 | C6: 552.5 | D6: =C6/100/H6 -> 10.984095 | E6: 29.27 | G6: =E6*H6*100 -> 1472.281 | H6: 0.503
B7: 39659 | C7: 599 | D7: =C7/100/H7 -> 11.884921 | E7: 31.82 | G7: =E7*H7*100 -> 1603.728 | H7: 0.504
B8: 39843 | C8: 558.5 | D8: =C8/100/H8 -> 7.9785714 | E8: 28.05 | G8: =E8*H8*100 -> 1963.5 | H8: 0.7
B9: 39994 | C9: 518 | D9: =C9/100/H9 -> 8.6046512 | E9: 25.34 | G9: =E9*H9*100 -> 1525.468 | H9: 0.602
B10: 39997 | C10: 524 | D10: =C10/100/H10 -> 8.5761047 | E10: 26.44 | F10: *** | G10: =E10*H10*100 -> 1615.484 | H10: 0.611
B11: 40060 | C11: 568 | D11: =C11/100/H11 -> 9.2962357 | E11: 28.1 | G11: =E11*H11*100 -> 1716.91 | H11: 0.611
B12: 40116 | C12: 770.5 | D12: =C12/100/H12 -> 12.756623 | E12: 27.52 | G12: =E12*H12*100 -> 1662.208 | H12: 0.604
B13: 40126 | C13: 761 | D13: =C13/100/H13 -> 12.768456 | E13: 26.53 | G13: =E13*H13*100 -> 1581.188 | H13: 0.596
B14: 40147 | C14: 806 | D14: =C14/100/H14 -> 13.278418 | E14: 26.58 | G14: =E14*H14*100 -> 1613.406 | H14: 0.607
B16: * There were 1 361 million Cadbury shares outstanding at the end of 2008
B17: (including the shares held as ADSs)
B18: ** There are 100 pence to a pound
B19: *** July 6
